BEGIN:VCALENDAR
VERSION:2.0
PRODID:-//ChamberMaster//Event Calendar 2.0//EN
METHOD:PUBLISH
X-PUBLISHED-TTL:P3D
REFRESH-INTERVAL:P3D
CALSCALE:GREGORIAN
BEGIN:VEVENT
DTSTART:20161218T160000Z
DTEND:20161218T180000Z
X-MICROSOFT-CDO-ALLDAYEVENT:FALSE
SUMMARY:Breakfast with Santa
DESCRIPTION:Come join us for breakfast with Santa. Proceeds go to help an Anaheim Family in need this Christmas. We'll be purchasing toys and grocery gift cards.
X-ALT-DESC;FMTTYPE=text/html:Come join us for breakfast with Santa. Proceeds go to help an Anaheim Family in need this Christmas. We&#39\;ll be purchasing toys and grocery gift cards.&nbsp\;
LOCATION:Applebees Restaurant 2114 E Lincoln Anaheim 714-817-7806
UID:e.2108.2281
SEQUENCE:3
DTSTAMP:20260421T173820Z
URL:https://business.anaheimchamber.org/events/details/breakfast-with-santa-2281
END:VEVENT

END:VCALENDAR
