BEGIN:VCALENDAR
VERSION:2.0
PRODID:-//ChamberMaster//Event Calendar 2.0//EN
METHOD:PUBLISH
X-PUBLISHED-TTL:P3D
REFRESH-INTERVAL:P3D
CALSCALE:GREGORIAN
BEGIN:VEVENT
DTSTART:20150821T003000Z
DTEND:20150821T043000Z
X-MICROSOFT-CDO-ALLDAYEVENT:FALSE
SUMMARY:Business\, Buzz\, & Bingo - Mixer
DESCRIPTION:Support Anaheim's Dog Parks & Monuments at the Business & Buzz Bingo Night\n\n \n\nJoin the Anaheim Chamber of Commerce\, the Anaheim Hills Buzz\, Council Member Kris Murray and Other Special Guests for a fun evening of networking\, food\, drinks\, games & prizes! All proceeds benefit Anaheim's Dogparks & K9 Monuments honoring active and fallen K9 heroes.\n\n\n\nThe Package includes include 3 Bingo Cards\, 1 Drink Ticket and Munchies.  Also includes an opportunity to be entered into a drawing for 4 tickets in a suite at an upcoming Angels Game  for $35!\n\n\n\nREGISTER TO GET PRE-SALE PRICES AT AnaheimDogParks.org \n\nSpecial Sponsorship Packages for Anaheim Chamber Members Also Available:\n\n \n\n$100 - Red Sponsorship will have name and business listed in the Anaheim Buzz Calendar\n\n \n\n$250 - White Sponsorship will have name and business listed in the Calendar\, will receive a Bingo Package of $35 and ONE month on the Anaheim Buzz Directory\n\n \n\n$500 - Blue Sponsorship will have name and business listed in the Calendar\, will receive a Bingo Package of $35 and THREE months on the Anaheim Hills Buzz Directory\n\n \n\n$1\,000 - Bronze Sponsorship will have name and business listed in the Calendar\, will receive a Bingo Package of $35 and FOUR months on MyBuzzOnline.com\n\n \n\nFor More Information and to register\, please visit  www.AnaheimDogParks.org
X-ALT-DESC;FMTTYPE=text/html:<strong><span style="color:#000001\;"><span style="font-family:arial\,sans-serif\;"><span style="font-size:24.0pt\;">Support Anaheim&#39\;s Dog Parks &amp\; Monuments at the Business &amp\; Buzz Bingo Night</span></span></span></strong><br />\n&nbsp\;<br />\n<span style="color:#000001\;">Join the Anaheim Chamber of Commerce\, the Anaheim Hills Buzz\, Council Member Kris Murray and Other Special Guests for a fun evening of networking\, food\, drinks\, games &amp\; prizes! All proceeds benefit Anaheim&#39\;s Dogparks &amp\; K9 Monuments honoring active and fallen K9 heroes.</span><br />\n<br />\n<span style="color:#000001\;">The Package includes include 3 Bingo Cards\, 1 Drink Ticket and Munchies. &nbsp\;Also includes an opportunity to be entered into a drawing for 4 tickets in a suite at an upcoming Angels Game&nbsp\;</span><span style="color: rgb(0\, 0\, 1)\; line-height: 20.7999992370605px\;">&nbsp\;for $35!</span><br />\n<br />\n<span style="color:#000001\;"><strong>REGISTER TO GET PRE-SALE PRICES AT <a alt="http://anaheimdogparks.org/?utm_source=TWIA+-+08.05.2015&amp\;utm_campaign=TWIA+8%2F05%2F15&amp\;utm_medium=email" href="http://r20.rs6.net/tn.jsp?f=001_-sXLSqR7cuSeFFnIs-Bqb38c04mKXuAz0EXUD2iMIFgDuXJkVGdBQ9rlt6fHmcA83yGORfhF-FaBUMCnOcq9jcEPXPgwBT1lXmwvNNv4HGLrcX0T5e_AmSniJ2cLUN7DTLfABlpniMJT2_J5uWrtCBr8flstWZliQktU0GC8hfZ1nEm_mzy4dPHD3cC_KFe0L912Nud6ioY9F_RWDnZX9uTT_qc_SJUquYxB_7NAy-v00-O7e1sebGfTIS4PY6vuduwTgVogQUpztEHG0jHYndl6u6H8crBBMGo6okmJd3thlub3aZvnQ==&amp\;c=FlWi4_f0JKZZtCi5h43is0It-8jbWD9SwobPDg42nWRkSBn5Jo8Leg==&amp\;ch=RSxQekNTeNqw3SVLGzIINTuqA9nN9lrpV-y4XDCXE9C30ECNNM6iKg==" linktype="1" shape="rect" target="_blank" track="on">AnaheimDogParks.org</a>&nbsp\;</strong></span><br />\n<strong><span style="color:#000001\;">Special Sponsorship Packages for Anaheim Chamber Members Also Available:</span></strong><br />\n&nbsp\;<br />\n<span style="color:#000001\;">$100 - Red Sponsorship will have name and business listed in the Anaheim Buzz Calendar</span><br />\n&nbsp\;<br />\n<span style="color:#000001\;">$250 - White Sponsorship will have name and business listed in the Calendar\, will receive a Bingo Package of $35 and ONE month on the Anaheim Buzz Directory</span><br />\n&nbsp\;<br />\n<span style="color:#000001\;">$500 - Blue Sponsorship will have name and business listed in the Calendar\, will receive a Bingo Package of $35 and THREE months on the Anaheim Hills Buzz Directory</span><br />\n&nbsp\;<br />\n<span style="color:#000001\;">$1\,000 - Bronze Sponsorship&nbsp\;will have name and business listed in the Calendar\, will receive a Bingo Package of $35 and FOUR months on&nbsp\;<a alt="http://MyBuzzOnline.com/?utm_source=TWIA+-+08.05.2015&amp\;utm_campaign=TWIA+8%2F05%2F15&amp\;utm_medium=email" href="http://r20.rs6.net/tn.jsp?f=001_-sXLSqR7cuSeFFnIs-Bqb38c04mKXuAz0EXUD2iMIFgDuXJkVGdBQ9rlt6fHmcA2rkib2DkoJTWulRtGIYI6AIN1EFiIw1If7CHGE6ROZ6A2lhHN4Hln4o1r45eJ73S7P7Pcu4iqd5a6KWoZspHQK7TjsnimtZ2UgXa91rMNRlnJw5aftGrEGtbrsS1md38nnIy8egjVls-sRXC3FIFPftP1OP0SfCH9_7WTR1NgxLCOmnvsXNRUUhb3o5o1zUz3HEsLhK9gJ3jzeXHv1lK1JygrfnMO-UFuHtWzxTZC270AAqfjxwfcA==&amp\;c=FlWi4_f0JKZZtCi5h43is0It-8jbWD9SwobPDg42nWRkSBn5Jo8Leg==&amp\;ch=RSxQekNTeNqw3SVLGzIINTuqA9nN9lrpV-y4XDCXE9C30ECNNM6iKg==" linktype="1" shape="rect" target="_blank" track="on">MyBuzzOnline.com</a><br />\n&nbsp\;</span><br />\n<span style="color:#000001\;">For More Information and to register\, please visit &nbsp\;<a alt="http://www.anaheimdogparks.org/?utm_source=TWIA+-+08.05.2015&amp\;utm_campaign=TWIA+8%2F05%2F15&amp\;utm_medium=email" href="http://r20.rs6.net/tn.jsp?f=001_-sXLSqR7cuSeFFnIs-Bqb38c04mKXuAz0EXUD2iMIFgDuXJkVGdBfHgHXAQlZHPHuyDnfZX65etKf09fi-aCRjIqfon-8F3oQV2_09eW8Mt77iGvDnFoE7p1ON-uL_854ZJwsicGdBPR973VcZS1YZCDWtXEK9ANeuqJuC9SQj644f0ystIkNz2oF2l07t97Dc2DmpouPaYgI1QY-WxGpa2EGqkzcI6CD6LG4umAfaKmSaIdcSJKJIN5b1zFeuE5cYdJOzVuGp1HM_ENiMaG5I7cTeg85Suk6azel9GkTf3poAQgnqTQA==&amp\;c=FlWi4_f0JKZZtCi5h43is0It-8jbWD9SwobPDg42nWRkSBn5Jo8Leg==&amp\;ch=RSxQekNTeNqw3SVLGzIINTuqA9nN9lrpV-y4XDCXE9C30ECNNM6iKg==" shape="rect" target="_blank">www.AnaheimDogParks.org</a>&nbsp\;</span><br />\n&nbsp\;<br />\n<br />\n&nbsp\;
LOCATION:Thursday\, August 20\, 2015 AFTER HOURS MIXER Anaheim Hills Golf Course 6501 N Nohl Ranch Rd Anaheim\, CA 92807
UID:e.2108.1682
SEQUENCE:3
DTSTAMP:20260420T152741Z
URL:https://business.anaheimchamber.org/events/details/business-buzz-bingo-mixer-08-20-2015-1682
END:VEVENT

END:VCALENDAR
