BEGIN:VCALENDAR
VERSION:2.0
PRODID:-//ChamberMaster//Event Calendar 2.0//EN
METHOD:PUBLISH
X-PUBLISHED-TTL:P3D
REFRESH-INTERVAL:P3D
CALSCALE:GREGORIAN
BEGIN:VEVENT
DTSTART:20210226T020000Z
DTEND:20210226T033000Z
X-MICROSOFT-CDO-ALLDAYEVENT:FALSE
SUMMARY:Business Entities: The Impact of Your Choice
DESCRIPTION:Are you confused about the different options when it comes to legal entities? How do you choose which is best for your business and your bottom line? How do you protect your assets\, yet keep initial costs reasonable?
X-ALT-DESC;FMTTYPE=text/html:<span style="font-family: Lato\, Arial\, Helvetica\, sans-serif\; font-size: 16px\;">Are you confused about the different options when it comes to legal entities? How do you choose which is best for your business and your bottom line? How do you protect your assets\, yet keep initial costs reasonable?</span>
LOCATION:Webinar
UID:e.2108.3902
SEQUENCE:3
DTSTAMP:20260423T054818Z
URL:https://business.anaheimchamber.org/events/details/business-entities-the-impact-of-your-choice-3902
END:VEVENT

END:VCALENDAR
