BEGIN:VCALENDAR
VERSION:2.0
PRODID:-//ChamberMaster//Event Calendar 2.0//EN
METHOD:PUBLISH
X-PUBLISHED-TTL:P3D
REFRESH-INTERVAL:P3D
CALSCALE:GREGORIAN
BEGIN:VEVENT
DTSTART:20210218T180000Z
DTEND:20210218T193000Z
X-MICROSOFT-CDO-ALLDAYEVENT:FALSE
SUMMARY:Business Feasibility
DESCRIPTION:Learn how to perform a feasibility study on your business idea before you invest valuable time\, energy and money into an idea that may not be truly viable. Discover what to investigate\, which areas to research and how to analyze the information gathered.
X-ALT-DESC;FMTTYPE=text/html:<span style="font-family: Lato\, Arial\, Helvetica\, sans-serif\; font-size: 16px\;">Learn how to perform a feasibility study on your business idea before you invest valuable time\, energy and money into an idea that may not be truly viable. Discover what to investigate\, which areas to research and how to analyze the information gathered.</span>
LOCATION:Webinar
UID:e.2108.3887
SEQUENCE:3
DTSTAMP:20260423T054407Z
URL:https://business.anaheimchamber.org/events/details/business-feasibility-3887
END:VEVENT

END:VCALENDAR
