BEGIN:VCALENDAR
VERSION:2.0
PRODID:-//ChamberMaster//Event Calendar 2.0//EN
METHOD:PUBLISH
X-PUBLISHED-TTL:P3D
REFRESH-INTERVAL:P3D
CALSCALE:GREGORIAN
BEGIN:VEVENT
DTSTART:20210227T170000Z
DTEND:20210228T010000Z
X-MICROSOFT-CDO-ALLDAYEVENT:FALSE
SUMMARY:Business Plan Boot Camp: Full-Day Interaction: Full day
DESCRIPTION:Date/Time: \n\n	\n		\n			Part 1: Introduction to Business Planning\n			2/27/21\n			10:00 AM\n			- 12:00 PM (PST)\n			 \n		\n		\n			Part 2: Marketing\, Operations\, and Organizational Plan\n			 \n			1:00 PM\n			- 3:00 PM (PST)\n			 \n		\n		\n			Part 3: Financial Statements and Projections\n			 \n			3:00 PM\n			- 5:00 PM (PST)\n			 \n		\n	\n\nRegistration Deadline: 2/27/21 9:30 AM (PST)\n\nFee: No Fee\n\n\n\nPoint of Contact: Delesa Barnes (909) 890-1242\n\n\n\nProgram Format: Online Meeting (Live)\n\nTraining Topics: Business Plan\, Business Start-up/Preplanning\, Marketing/Sales\n\n\n\nInstructions: In response to COVID-19 public health concerns\, all workshops will be held on ZOOM\, an online video platform\, until further notice. To maintain quality and security during virtual events\, you will be sent a link to join the meeting on the day of the event\, up to 30 minutes prior to the scheduled start time. If you do not receive the link check your spam inbox then call (909)-890-1242 for assistance.
X-ALT-DESC;FMTTYPE=text/html:<label style="font-weight: bold\; line-height: 20px\; color: rgb(0\, 0\, 0)\; font-family: Lato\, Arial\, Helvetica\, sans-serif\; font-size: 16px\;">Date/Time:</label><span style="color: rgb(0\, 0\, 0)\; font-family: Lato\, Arial\, Helvetica\, sans-serif\; font-size: 16px\;">&nbsp\;</span>\n<table style="color: rgb(0\, 0\, 0)\; font-family: Lato\, Arial\, Helvetica\, sans-serif\; font-size: 16px\; margin-left: 50px\;">\n	<tbody>\n		<tr>\n			<td style="padding-right: 20px\;">Part 1: Introduction to Business Planning</td>\n			<td align="right" style="padding-right: 20px\;">2/27/21</td>\n			<td align="right">10:00 AM</td>\n			<td align="left">- 12:00 PM (PST)</td>\n			<td>&nbsp\;</td>\n		</tr>\n		<tr>\n			<td style="padding-right: 20px\;">Part 2: Marketing\, Operations\, and Organizational Plan</td>\n			<td align="right" style="padding-right: 20px\;">&nbsp\;</td>\n			<td align="right">1:00 PM</td>\n			<td align="left">- 3:00 PM (PST)</td>\n			<td>&nbsp\;</td>\n		</tr>\n		<tr>\n			<td style="padding-right: 20px\;">Part 3: Financial Statements and Projections</td>\n			<td align="right" style="padding-right: 20px\;">&nbsp\;</td>\n			<td align="right">3:00 PM</td>\n			<td align="left">- 5:00 PM (PST)</td>\n			<td>&nbsp\;</td>\n		</tr>\n	</tbody>\n</table>\n<label style="font-weight: bold\; line-height: 20px\; color: rgb(0\, 0\, 0)\; font-family: Lato\, Arial\, Helvetica\, sans-serif\; font-size: 16px\;">Registration Deadline:</label><span style="color: rgb(0\, 0\, 0)\; font-family: Lato\, Arial\, Helvetica\, sans-serif\; font-size: 16px\;">&nbsp\;2/27/21 9:30 AM (PST)</span><br style="color: rgb(0\, 0\, 0)\; font-family: Lato\, Arial\, Helvetica\, sans-serif\; font-size: 16px\;" />\n<label style="font-weight: bold\; line-height: 20px\; color: rgb(0\, 0\, 0)\; font-family: Lato\, Arial\, Helvetica\, sans-serif\; font-size: 16px\;">Fee:</label><span style="color: rgb(0\, 0\, 0)\; font-family: Lato\, Arial\, Helvetica\, sans-serif\; font-size: 16px\;">&nbsp\;No Fee</span><br style="color: rgb(0\, 0\, 0)\; font-family: Lato\, Arial\, Helvetica\, sans-serif\; font-size: 16px\;" />\n<br style="color: rgb(0\, 0\, 0)\; font-family: Lato\, Arial\, Helvetica\, sans-serif\; font-size: 16px\;" />\n<label style="font-weight: bold\; line-height: 20px\; color: rgb(0\, 0\, 0)\; font-family: Lato\, Arial\, Helvetica\, sans-serif\; font-size: 16px\;">Point of Contact:</label><span style="color: rgb(0\, 0\, 0)\; font-family: Lato\, Arial\, Helvetica\, sans-serif\; font-size: 16px\;">&nbsp\;</span><a href="mailto:delesa@iewbc.org" style="color: rgb(45\, 119\, 179)\; text-decoration-line: none\; font-family: Lato\, Arial\, Helvetica\, sans-serif\; font-size: 16px\;">Delesa Barnes</a><span style="color: rgb(0\, 0\, 0)\; font-family: Lato\, Arial\, Helvetica\, sans-serif\; font-size: 16px\;">&nbsp\;(909) 890-1242</span><br style="color: rgb(0\, 0\, 0)\; font-family: Lato\, Arial\, Helvetica\, sans-serif\; font-size: 16px\;" />\n<br style="color: rgb(0\, 0\, 0)\; font-family: Lato\, Arial\, Helvetica\, sans-serif\; font-size: 16px\;" />\n<label style="font-weight: bold\; line-height: 20px\; color: rgb(0\, 0\, 0)\; font-family: Lato\, Arial\, Helvetica\, sans-serif\; font-size: 16px\;">Program Format:</label><span style="color: rgb(0\, 0\, 0)\; font-family: Lato\, Arial\, Helvetica\, sans-serif\; font-size: 16px\;">&nbsp\;Online Meeting (Live)</span><br style="color: rgb(0\, 0\, 0)\; font-family: Lato\, Arial\, Helvetica\, sans-serif\; font-size: 16px\;" />\n<label style="font-weight: bold\; line-height: 20px\; color: rgb(0\, 0\, 0)\; font-family: Lato\, Arial\, Helvetica\, sans-serif\; font-size: 16px\;">Training Topics:</label><span style="color: rgb(0\, 0\, 0)\; font-family: Lato\, Arial\, Helvetica\, sans-serif\; font-size: 16px\;">&nbsp\;Business Plan\, Business Start-up/Preplanning\, Marketing/Sales</span><br style="color: rgb(0\, 0\, 0)\; font-family: Lato\, Arial\, Helvetica\, sans-serif\; font-size: 16px\;" />\n<br style="color: rgb(0\, 0\, 0)\; font-family: Lato\, Arial\, Helvetica\, sans-serif\; font-size: 16px\;" />\n<label style="font-weight: bold\; line-height: 20px\; color: rgb(0\, 0\, 0)\; font-family: Lato\, Arial\, Helvetica\, sans-serif\; font-size: 16px\;">Instructions:</label><span style="color: rgb(0\, 0\, 0)\; font-family: Lato\, Arial\, Helvetica\, sans-serif\; font-size: 16px\;">&nbsp\;In response to COVID-19 public health concerns\, all workshops will be held on ZOOM\, an online video platform\, until further notice. To maintain quality and security during virtual events\, you will be sent a link to join the meeting on the day of the event\, up to 30 minutes prior to the scheduled start time. If you do not receive the link check your spam inbox then call (909)-890-1242 for assistance.</span>
LOCATION:Webinar
UID:e.2108.3905
SEQUENCE:3
DTSTAMP:20260423T054457Z
URL:https://business.anaheimchamber.org/events/details/business-plan-boot-camp-full-day-interaction-full-day-3905
END:VEVENT

END:VCALENDAR
