BEGIN:VCALENDAR
VERSION:2.0
PRODID:-//ChamberMaster//Event Calendar 2.0//EN
METHOD:PUBLISH
X-PUBLISHED-TTL:P3D
REFRESH-INTERVAL:P3D
CALSCALE:GREGORIAN
BEGIN:VEVENT
DTSTART:20210208T180000Z
DTEND:20210208T193000Z
X-MICROSOFT-CDO-ALLDAYEVENT:FALSE
SUMMARY:Business Plan Bootcamp 3-Part Series
DESCRIPTION:Training Topics: Business Start-up/Preplanning\n\n\n\nInstructions: In response to COVID-19 public health concerns\, we will be moving all in-person workshops to online video platforms until further notice. For security purposes\, you will be sent a link to join the meeting 30 minutes prior to the scheduled start time. Please look for the meeting link on the day of the training.
X-ALT-DESC;FMTTYPE=text/html:<label style="font-weight: bold\; line-height: 20px\; font-family: Lato\, Arial\, Helvetica\, sans-serif\; font-size: 16px\;">Training Topics:</label><span style="font-family: Lato\, Arial\, Helvetica\, sans-serif\; font-size: 16px\;">&nbsp\;Business Start-up/Preplanning</span><br style="font-family: Lato\, Arial\, Helvetica\, sans-serif\; font-size: 16px\;" />\n<br style="font-family: Lato\, Arial\, Helvetica\, sans-serif\; font-size: 16px\;" />\n<label style="font-weight: bold\; line-height: 20px\; font-family: Lato\, Arial\, Helvetica\, sans-serif\; font-size: 16px\;">Instructions:</label><span style="font-family: Lato\, Arial\, Helvetica\, sans-serif\; font-size: 16px\;">&nbsp\;In response to COVID-19 public health concerns\, we will be moving all in-person workshops to online video platforms until further notice. For security purposes\, you will be sent a link to join the meeting 30 minutes prior to the scheduled start time. Please look for the meeting link on the day of the training.</span>
LOCATION:Webinar
UID:e.2108.3865
SEQUENCE:3
DTSTAMP:20260423T054405Z
URL:https://business.anaheimchamber.org/events/details/business-plan-bootcamp-3-part-series-3865
END:VEVENT

END:VCALENDAR
