BEGIN:VCALENDAR
VERSION:2.0
PRODID:-//ChamberMaster//Event Calendar 2.0//EN
METHOD:PUBLISH
X-PUBLISHED-TTL:P3D
REFRESH-INTERVAL:P3D
CALSCALE:GREGORIAN
BEGIN:VEVENT
DTSTART:20210216T163000Z
DTEND:20210216T203000Z
X-MICROSOFT-CDO-ALLDAYEVENT:FALSE
SUMMARY:Business Plans in Action
DESCRIPTION:"If you fail to plan\, you plan to fail." - Benjamin Franklin Whether you are launching\, expanding or pivoting your business\, this deep dive will take you through the process of how to complete each step in the business plan outline. This training is designed for veteran/military family entrepreneurs interested in writing a viable business plan that will get you focused in the right direction to capture the attention of investors\, partners and lenders. The finished project is also an important operating tool to help you manage your business and enable you to achieve greater success. Topics Covered will include: Executive Summary\, Industry and Market Analysis\, Marketing Strategy\, Operations and Organizational Design\, Implementation\, Financial Strategy\, Financial Management\, Legal Structure\, Record keeping\, Cash Management\, Forecasting\, Personnel\, Exit Strategy and much more. Workshop will include live\, interactive\, reflective\, and relatable exercises. Please have pen and paper ready. This workshop is presented on the Zoom platform. Zoom link and password will be emailed to registered participants the day prior to the event.
X-ALT-DESC;FMTTYPE=text/html:<span style="font-family: Lato\, Arial\, Helvetica\, sans-serif\; font-size: 16px\;">&ldquo\;If you fail to plan\, you plan to fail.&rdquo\; - Benjamin Franklin Whether you are launching\, expanding or pivoting your business\, this deep dive will take you through the process of how to complete each step in the business plan outline. This training is designed for veteran/military family entrepreneurs interested in writing a viable business plan that will get you focused in the right direction to capture the attention of investors\, partners and lenders. The finished project is also an important operating tool to help you manage your business and enable you to achieve greater success. Topics Covered will include: Executive Summary\, Industry and Market Analysis\, Marketing Strategy\, Operations and Organizational Design\, Implementation\, Financial Strategy\, Financial Management\, Legal Structure\, Record keeping\, Cash Management\, Forecasting\, Personnel\, Exit Strategy and much more. Workshop will include live\, interactive\, reflective\, and relatable exercises. Please have pen and paper ready. This workshop is presented on the Zoom platform. Zoom link and password will be emailed to registered participants the day prior to the event.</span>
LOCATION:Webinar
UID:e.2108.3881
SEQUENCE:3
DTSTAMP:20260423T054616Z
URL:https://business.anaheimchamber.org/events/details/business-plans-in-action-3881
END:VEVENT

END:VCALENDAR
