BEGIN:VCALENDAR
VERSION:2.0
PRODID:-//ChamberMaster//Event Calendar 2.0//EN
METHOD:PUBLISH
X-PUBLISHED-TTL:P3D
REFRESH-INTERVAL:P3D
CALSCALE:GREGORIAN
BEGIN:VEVENT
DTSTART:20160726T170000Z
DTEND:20160726T183000Z
X-MICROSOFT-CDO-ALLDAYEVENT:FALSE
SUMMARY:California Competes Tax Credit Workshop
DESCRIPTION:The Orange County SBDC is Hosting Governor's Office of Business and Economic Development (GO-Biz) workshop on the California Competes Tax Credit.\n\n\n\nSmall\, medium and large businesses are encouraged to attend the workshop and receive instruction on how to apply for this new tax credit program available from the State. Come and learn how your business can apply for millions in available new tax credits.
X-ALT-DESC;FMTTYPE=text/html:The Orange County SBDC is Hosting Governor&#39\;s Office of Business and Economic Development (GO-Biz) workshop on the California Competes Tax Credit.<br />\n<br />\nSmall\, medium and large businesses are encouraged to attend the workshop and receive instruction on how to apply for this new tax credit program available from the State. Come and learn how your business can apply for millions in available new tax credits.
LOCATION:2323 N. Broadway\, Room 107 Santa Ana\, Ca 92706
UID:e.2108.1895
SEQUENCE:3
DTSTAMP:20260421T092950Z
URL:https://business.anaheimchamber.org/events/details/california-competes-tax-credit-workshop-07-26-2016-1895
END:VEVENT

END:VCALENDAR
