BEGIN:VCALENDAR
VERSION:2.0
PRODID:-//ChamberMaster//Event Calendar 2.0//EN
METHOD:PUBLISH
X-PUBLISHED-TTL:P3D
REFRESH-INTERVAL:P3D
CALSCALE:GREGORIAN
BEGIN:VEVENT
DTSTART:20150619T190000Z
DTEND:20150619T203000Z
X-MICROSOFT-CDO-ALLDAYEVENT:FALSE
SUMMARY:CANCELED-Legislative Committee Meeting- June 19\, 2015
DESCRIPTION:LEGISLATIVE COMMITTEE MEETING   CANCELATION\n\n \n\n \n\nPlease note that this month's Legislative Committee meeting is canceled due to Governor Jerry Brown calling the Legislature into special session this Friday\, June 19th\, and our guest speaker Senator Bob Huff attending to his duties in Sacramento as a result. We look forward to rescheduling and welcoming Senator Huff at a later date and time.\n\n \n\nThe Legislative Committee will reconvene on July 17th as we welcome Congresswoman Loretta Sanchez\, and we look forward to seeing everyone there. Thank you.
X-ALT-DESC;FMTTYPE=text/html:<br />\n<strong><span style="font-size:14.0pt\;">LEGISLATIVE COMMITTEE MEETING &ndash\; CANCELATION</span></strong><br />\n<span style="font-family:times new roman\,serif\;"><span style="font-size:12.0pt\;">&nbsp\;<br />\n&nbsp\;<br />\nPlease note that this month&rsquo\;s Legislative Committee meeting is canceled due to Governor Jerry Brown calling the Legislature into special session this Friday\, June 19<sup>th</sup>\, and our guest speaker Senator Bob Huff attending to his duties in Sacramento as a result. We look forward to rescheduling and welcoming Senator Huff at a later date and time.<br />\n&nbsp\;<br />\nThe Legislative Committee will reconvene on July 17<sup>th</sup> as we welcome Congresswoman Loretta Sanchez\, and we look forward to seeing everyone there. Thank you.</span></span>
LOCATION:Anaheim Chamber of Commerce 2400 E. Katella Ave.\, Ste. 725 Anaheim\, CA 92802
UID:e.2108.1649
SEQUENCE:3
DTSTAMP:20260420T123227Z
URL:https://business.anaheimchamber.org/events/details/canceled-legislative-committee-meeting-june-19-2015-06-19-2015-1649
END:VEVENT

END:VCALENDAR
