BEGIN:VCALENDAR
VERSION:2.0
PRODID:-//ChamberMaster//Event Calendar 2.0//EN
METHOD:PUBLISH
X-PUBLISHED-TTL:P3D
REFRESH-INTERVAL:P3D
CALSCALE:GREGORIAN
BEGIN:VEVENT
DTSTART:20260227T010000Z
DTEND:20260227T030000Z
X-MICROSOFT-CDO-ALLDAYEVENT:FALSE
SUMMARY:Chamber Business Alliance Mixer presented by Orange Chamber of Commerce
DESCRIPTION:You are invited to We Love Business Multi-Chamber Mixer featuring networking with 7 chambers on Thursday\, February 26 from 5 PM 7 PM. We will see you there!
X-ALT-DESC;FMTTYPE=text/html:You are invited to We Love Business Multi-Chamber Mixer featuring networking with 7 chambers on Thursday\, February 26 from 5 PM 7 PM. We will see you there!
LOCATION:The Velvet Rose 300 S Flower St Orange
UID:e.2108.5904
SEQUENCE:3
DTSTAMP:20260420T015536Z
URL:https://business.anaheimchamber.org/events/details/chamber-business-alliance-mixer-presented-by-orange-chamber-of-commerce-5904
END:VEVENT

END:VCALENDAR
