BEGIN:VCALENDAR
VERSION:2.0
PRODID:-//ChamberMaster//Event Calendar 2.0//EN
METHOD:PUBLISH
X-PUBLISHED-TTL:P3D
REFRESH-INTERVAL:P3D
CALSCALE:GREGORIAN
BEGIN:VEVENT
DTSTART:20180719T200000Z
DTEND:20180719T220000Z
X-MICROSOFT-CDO-ALLDAYEVENT:FALSE
SUMMARY:CMTA and the Manufacturers' Accountability Project
DESCRIPTION:You're invited to join the California\n\nManufacturers & Technology Association\n\nand the Manufacturers' Accountability\n\nProject for a roundtable discussion marking the\n\none-year anniversary of the first public\n\nnuisance-based climate lawsuits in California.\n\nThe roundtable will include discussion of the latest\n\ndevelopments in the litigation\, the misguided\n\nlegal theory that trial attorneys are using and\n\nhow these lawsuits do little to address the\n\nproblem of climate change.
X-ALT-DESC;FMTTYPE=text/html:You&rsquo\;re invited to join the California<br />\nManufacturers &amp\; Technology Association<br />\nand the Manufacturers&rsquo\; Accountability<br />\nProject for a roundtable discussion marking the<br />\none-year anniversary of the first public<br />\nnuisance-based climate lawsuits in California.<br />\nThe roundtable will include discussion of the latest<br />\ndevelopments in the litigation\, the misguided<br />\nlegal theory that trial attorneys are using and<br />\nhow these lawsuits do little to address the<br />\nproblem of climate change.
LOCATION:IRVINE MARRIOT 18000 VON KARMAN AVE IRVINE\, CA 92612
UID:e.2108.2488
SEQUENCE:3
DTSTAMP:20260422T235028Z
URL:https://business.anaheimchamber.org/events/details/cmta-and-the-manufacturers-accountability-project-2488
END:VEVENT

END:VCALENDAR
