BEGIN:VCALENDAR
VERSION:2.0
PRODID:-//ChamberMaster//Event Calendar 2.0//EN
METHOD:PUBLISH
X-PUBLISHED-TTL:P3D
REFRESH-INTERVAL:P3D
CALSCALE:GREGORIAN
BEGIN:VEVENT
DTSTART;VALUE=DATE:20170123
DTEND;VALUE=DATE:20170125
TRANSP:TRANSPARENT
X-MICROSOFT-CDO-ALLDAYEVENT:TRUE
SUMMARY:Coco's National Pie Day\, Monday\, January 23\, 2017 - Free Slice of Pie
DESCRIPTION:Please join us at Coco's Restaurant for National Pie Day on Monday\, January 23 from 11am to Closing.  Purchase any adult entree and receive a free slice of pie.  Any slice of pie of your choice.  We hope to see our chamber members and the community for National Pie Day!!
X-ALT-DESC;FMTTYPE=text/html:Please join us at Coco&#39\;s Restaurant for National Pie Day on Monday\, January 23 from 11am to Closing.&nbsp\; Purchase any adult entree and receive a free slice of pie.&nbsp\; Any slice of pie of your choice.&nbsp\; We hope to see our chamber members and the community for National Pie Day!!
LOCATION:Coco's Restaurants at 1100 W Katella Avenue\, Anaheim and at Coco's 12032 Harbor Blvd\, Garden Grove
UID:e.2108.2292
SEQUENCE:3
DTSTAMP:20260421T191959Z
URL:https://business.anaheimchamber.org/events/details/coco-s-national-pie-day-monday-january-23-2017-free-slice-of-pie-2292
END:VEVENT

END:VCALENDAR
