BEGIN:VCALENDAR
VERSION:2.0
PRODID:-//ChamberMaster//Event Calendar 2.0//EN
METHOD:PUBLISH
X-PUBLISHED-TTL:P3D
REFRESH-INTERVAL:P3D
CALSCALE:GREGORIAN
BEGIN:VEVENT
DTSTART:20190712T013000Z
DTEND:20190712T033000Z
X-MICROSOFT-CDO-ALLDAYEVENT:FALSE
SUMMARY:Concerts in the Canyon - Mick & the Stones
DESCRIPTION:Free concert at Ronald Reagan Park.
X-ALT-DESC;FMTTYPE=text/html:Free concert at Ronald Reagan Park.
LOCATION:945 S. Weir Canyon Rd. Anaheim
UID:e.2108.2772
SEQUENCE:3
DTSTAMP:20260423T182619Z
URL:https://business.anaheimchamber.org/events/details/concerts-in-the-canyon-mick-the-stones-2772
END:VEVENT

END:VCALENDAR
