BEGIN:VCALENDAR
VERSION:2.0
PRODID:-//ChamberMaster//Event Calendar 2.0//EN
METHOD:PUBLISH
X-PUBLISHED-TTL:P3D
REFRESH-INTERVAL:P3D
CALSCALE:GREGORIAN
BEGIN:VEVENT
DTSTART:20210225T210000Z
DTEND:20210225T220000Z
X-MICROSOFT-CDO-ALLDAYEVENT:FALSE
SUMMARY:Creating Better Content to Drive Website Traffic
DESCRIPTION:If you are trying to grow your business in this age of digital transformation\, you're most likely challenged with creating good\, quality content for your website. Many small and mid-sized companies produce content that doesn't get seen on the search engines\, nor shared on the social media platforms. After investing so much time generating the content\, this can be frustrating and unproductive. \n\nSteve Pitchford will present this workshop to help you get a better understanding of what it takes to create good\, quality content that drives traffic to your website and that also generates more social shares of that content. There are three entities to keep in mind while you're planning and writing content\; your brand\, your audience and the search engines. So we will be taking inventory of what industry experts teach on these topics\, as well as provide insights to what Google's Search Quality Guidelines say about it. \n\nTopics to be covered include:\n\n\n	Why is content so important to your brand\, your audience and Google?\n	What types of content drives website traffic and social shares?\n	We break down the types of content important to your brand\, audience and Google\n	How to build great website content\n	Tools for selecting topics\, content types and competitive research\n	Basics for doing a brand inventory and website content audit\n	Google's guidance on building high quality websites
X-ALT-DESC;FMTTYPE=text/html:<p style="margin: 0px 0px 18px\; padding: 0px\; color: rgb(51\, 51\, 51)\; font-family: Arial\, Helvetica\, sans-serif\; font-size: 12px\;"><span style="font-size: 12pt\;" title="">If you are trying to grow your business in this age of digital transformation\, you&rsquo\;re most likely challenged with creating good\, quality content for your website. Many small and mid-sized companies produce content that doesn&rsquo\;t get seen on the search engines\, nor shared on the social media platforms. After investing so much time generating the content\, this can be frustrating and unproductive.</span>&nbsp\;</p>\n\n<p style="margin: 0px 0px 18px\; padding: 0px\; color: rgb(51\, 51\, 51)\; font-family: Arial\, Helvetica\, sans-serif\; font-size: 12px\;"><span style="font-size: 12pt\;" title="">Steve Pitchford will present this workshop to help you get a better understanding of what it takes to create good\, quality content that drives traffic to your website and that also generates more social shares of that content. There are three entities to keep in mind while you&rsquo\;re planning and writing content\; your brand\, your audience and the search engines. So we will be taking inventory of what industry experts teach on these topics\, as well as provide insights to what Google&rsquo\;s Search Quality Guidelines say about it.</span>&nbsp\;</p>\n\n<p style="margin: 0px 0px 18px\; padding: 0px\; color: rgb(51\, 51\, 51)\; font-family: Arial\, Helvetica\, sans-serif\; font-size: 12px\;"><span style="font-size: 12pt\;" title=""><b>Topics to be covered include:</b></span></p>\n\n<ul style="margin: 18px 0px 18px 18px\; padding: 0px\; list-style-position: outside\; list-style-image: initial\; color: rgb(51\, 51\, 51)\; font-family: Arial\, Helvetica\, sans-serif\; font-size: 12px\;">\n	<li style="margin: 0px\; padding: 0px\;"><span style="font-size: 12pt\;" title="">Why is content so important to your brand\, your audience and Google?</span></li>\n	<li style="margin: 0px\; padding: 0px\;"><span style="font-size: 12pt\;" title="">What types of content drives website traffic and social shares?</span></li>\n	<li style="margin: 0px\; padding: 0px\;"><span style="font-size: 12pt\;" title="">We break down the types of content important to your brand\, audience and Google</span></li>\n	<li style="margin: 0px\; padding: 0px\;"><span style="font-size: 12pt\;" title="">How to build great website content</span></li>\n	<li style="margin: 0px\; padding: 0px\;"><span style="font-size: 12pt\;" title="">Tools for selecting topics\, content types and competitive research</span></li>\n	<li style="margin: 0px\; padding: 0px\;"><span style="font-size: 12pt\;" title="">Basics for doing a brand inventory and website content audit</span></li>\n	<li style="margin: 0px\; padding: 0px\;"><span style="font-size: 12pt\;" title="">Google&rsquo\;s guidance on building high quality websites</span>&nbsp\;</li>\n</ul>\n
LOCATION:Webinar
UID:e.2108.3901
SEQUENCE:3
DTSTAMP:20260423T054508Z
URL:https://business.anaheimchamber.org/events/details/creating-better-content-to-drive-website-traffic-3901
END:VEVENT

END:VCALENDAR
