BEGIN:VCALENDAR
VERSION:2.0
PRODID:-//ChamberMaster//Event Calendar 2.0//EN
METHOD:PUBLISH
X-PUBLISHED-TTL:P3D
REFRESH-INTERVAL:P3D
CALSCALE:GREGORIAN
BEGIN:VEVENT
DTSTART:20210209T180000Z
DTEND:20210209T190000Z
X-MICROSOFT-CDO-ALLDAYEVENT:FALSE
SUMMARY:Creating Content for a New Year: Apps That Make It Easy
DESCRIPTION:A new year and a fresh start to jump in and create great looking content for social media. \n\nFrom beautiful photos to your own videos\, I'll share my favorite apps that really make it easier than you think! \n\nCreate a library of fresh content for your social media! \n\n\n	Canva for easy posts and graphics: I'll walk you thru it step by step!\n	Photo editing: I'll show you exactly how I retouch and optimize my photos for great looking images!\n	Video: We've got that covered too! Super easy to create video for your own business \n\n\nWe'll work together to create engaging\, share-able posts with photos\, graphics and DIY video to start your 2021 marketing off on a great foot. \n\nI'll be sharing my most current tips\, apps and ideas for online visual content\, yep\, still a How To Extravaganza\, photo apps \, Social Media tips and DIY Video ideas! \n\n Using apps and my helpful tips\, your images and video can look polished and professional! \n\nOh\, yeah I'll show you filters for your images AND video! \n\nWhat we will cover:\n\n\n	Filters and Apps\, how to use them to easily up your game \n	See how to easily create great graphics and images\n	Best tips on how to share!\n	Latest visual trends and how to apply to YOUR business\n\n\nRoni Ramos from Harmony 3 Productions is the presenter of this workshop.\n\nRoni is the founder and President of Harmony 3 Productions. A tight team of creators from photography to video and motion graphics. Harmony 3 is sweet but with a bite like Jalape o lemonade!\n\nAttendees rave about her presentations where she shares tips\, tools\, techniques and actionable steps to use graphics and video to polish your online marketing  Roni is a great cheerleader to get small business excited about using the new technologies available to market their business.
X-ALT-DESC;FMTTYPE=text/html:<p style="margin: 0px 0px 18px\; padding: 0px\; color: rgb(51\, 51\, 51)\; font-family: Arial\, Helvetica\, sans-serif\; font-size: 12px\;"><span style="font-size: 12pt\;" title="">A new year and a fresh start to jump in and create great looking content for social media.&nbsp\;</span></p>\n\n<p style="margin: 0px 0px 18px\; padding: 0px\; color: rgb(51\, 51\, 51)\; font-family: Arial\, Helvetica\, sans-serif\; font-size: 12px\;"><span style="font-size: 12pt\;" title="">From beautiful photos to your own videos\, I&rsquo\;ll share my favorite apps that really make it easier than you think!&nbsp\;</span></p>\n\n<p style="margin: 0px 0px 18px\; padding: 0px\; color: rgb(51\, 51\, 51)\; font-family: Arial\, Helvetica\, sans-serif\; font-size: 12px\;"><span style="font-size: 12pt\;" title="">Create a library of fresh content for your social media!&nbsp\;</span></p>\n\n<ul style="margin: 18px 0px 18px 18px\; padding: 0px\; list-style-position: outside\; list-style-image: initial\; color: rgb(51\, 51\, 51)\; font-family: Arial\, Helvetica\, sans-serif\; font-size: 12px\;">\n	<li style="margin: 0px\; padding: 0px\;"><span style="font-size: 12pt\;" title="">Canva for easy posts and graphics: I&rsquo\;ll walk you thru it step by step!</span></li>\n	<li style="margin: 0px\; padding: 0px\;"><span style="font-size: 12pt\;" title="">Photo editing: I&rsquo\;ll show you exactly how I retouch and optimize my photos for great looking images!</span></li>\n	<li style="margin: 0px\; padding: 0px\;"><span style="font-size: 12pt\;" title="">Video: We&rsquo\;ve got that covered too! Super easy to create video for your own business&nbsp\;</span></li>\n</ul>\n\n<p style="margin: 0px 0px 18px\; padding: 0px\; color: rgb(51\, 51\, 51)\; font-family: Arial\, Helvetica\, sans-serif\; font-size: 12px\;"><span style="font-size: 12pt\;" title="">We&rsquo\;ll work together to create engaging\, share-able posts with photos\, graphics and DIY video to start your 2021 marketing off on a great foot.&nbsp\;</span></p>\n\n<p style="margin: 0px 0px 18px\; padding: 0px\; color: rgb(51\, 51\, 51)\; font-family: Arial\, Helvetica\, sans-serif\; font-size: 12px\;"><span style="font-size: 12pt\;" title="">I&rsquo\;ll be sharing my&nbsp\;<b>most current tips</b>\, apps and ideas for online visual content\, yep\, still a&nbsp\;<b>How To Extravaganza</b>\, photo apps \, Social Media tips and DIY Video ideas!&nbsp\;</span></p>\n\n<p style="margin: 0px 0px 18px\; padding: 0px\; color: rgb(51\, 51\, 51)\; font-family: Arial\, Helvetica\, sans-serif\; font-size: 12px\;"><span style="font-size: 12pt\;" title="">&nbsp\;Using apps and my helpful tips\, your images and video can look polished and professional!&nbsp\;</span></p>\n\n<p style="margin: 0px 0px 18px\; padding: 0px\; color: rgb(51\, 51\, 51)\; font-family: Arial\, Helvetica\, sans-serif\; font-size: 12px\;"><span style="font-size: 12pt\;" title="">Oh\, yeah&hellip\;I&rsquo\;ll show you filters for your images AND video!&nbsp\;</span></p>\n\n<p style="margin: 0px 0px 18px\; padding: 0px\; color: rgb(51\, 51\, 51)\; font-family: Arial\, Helvetica\, sans-serif\; font-size: 12px\;"><span style="font-size: 12pt\;" title=""><b>What we will cover:</b></span></p>\n\n<ul style="margin: 18px 0px 18px 18px\; padding: 0px\; list-style-position: outside\; list-style-image: initial\; color: rgb(51\, 51\, 51)\; font-family: Arial\, Helvetica\, sans-serif\; font-size: 12px\;">\n	<li style="margin: 0px\; padding: 0px\;"><span style="font-size: 12pt\;" title="">Filters and Apps\, how to use them to easily up your game&hellip\;</span></li>\n	<li style="margin: 0px\; padding: 0px\;"><span style="font-size: 12pt\;" title="">See how to easily create great graphics and images</span></li>\n	<li style="margin: 0px\; padding: 0px\;"><span style="font-size: 12pt\;" title="">Best tips on how to share!</span></li>\n	<li style="margin: 0px\; padding: 0px\;"><span style="font-size: 12pt\;" title="">Latest visual trends and how to apply to YOUR business</span></li>\n</ul>\n\n<p style="margin: 0px 0px 18px\; padding: 0px\; color: rgb(51\, 51\, 51)\; font-family: Arial\, Helvetica\, sans-serif\; font-size: 12px\;"><span style="font-size: 12pt\;" title=""><b>Roni Ramos&nbsp\;from&nbsp\;Harmony 3 Productions</b>&nbsp\;is the presenter of this workshop.</span></p>\n\n<p style="margin: 0px 0px 18px\; padding: 0px\; color: rgb(51\, 51\, 51)\; font-family: Arial\, Helvetica\, sans-serif\; font-size: 12px\;"><span style="font-size: 12pt\;" title="">Roni is the founder and President of Harmony 3 Productions.&nbsp\;A tight team of creators from photography to video and motion graphics.&nbsp\;Harmony 3 is sweet&hellip\;but with a bite&hellip\;like Jalape&ntilde\;o lemonade!</span></p>\n\n<p style="margin: 0px 0px 18px\; padding: 0px\; color: rgb(51\, 51\, 51)\; font-family: Arial\, Helvetica\, sans-serif\; font-size: 12px\;"><span style="font-size: 12pt\;" title="">Attendees rave about her presentations&nbsp\;where she shares tips\, tools\, techniques and actionable steps to use graphics&nbsp\;and video to polish your online marketing&hellip\;&nbsp\;Roni is a great cheerleader to get small business excited&nbsp\;about using the new technologies available to market&nbsp\;their business.</span></p>\n
LOCATION:Webinar
UID:e.2108.3868
SEQUENCE:3
DTSTAMP:20260423T054406Z
URL:https://business.anaheimchamber.org/events/details/creating-content-for-a-new-year-apps-that-make-it-easy-3868
END:VEVENT

END:VCALENDAR
