BEGIN:VCALENDAR
VERSION:2.0
PRODID:-//ChamberMaster//Event Calendar 2.0//EN
METHOD:PUBLISH
X-PUBLISHED-TTL:P3D
REFRESH-INTERVAL:P3D
CALSCALE:GREGORIAN
BEGIN:VEVENT
DTSTART:20210223T170000Z
DTEND:20210223T190000Z
X-MICROSOFT-CDO-ALLDAYEVENT:FALSE
SUMMARY:Creating Winning Proposals for the Government
DESCRIPTION:Responding to an RFP for government contracting can be difficult\, especially if you've never done it. This webinar will focus specifically on proposals\, which are typically required for larger\, more complex jobs that require more than just a price quote for a specific product.\n\nHow do you prepare to respond to an RFP?\n\nWhat are the requirements of the proposal and what are the submission instructions?\n\nHow will the proposals be evaluated?\n\nHow do you write a responsive proposal?\n\nWhat do you do after you submit a proposal?\n\nAttendees will be provided handouts including 10 Proposal Writing Tips\, 10 Insights About How Proposal Evaluators Operate\, and a spreadsheet to help you decide whether to pursue an opportunity before starting the proposal.\n\n \n\n \n\nFacilitated by Frank Luna\, Procurement Advisor\n\n \n\nCost: Free\, but reservations required!\n\n \n\n \n\nLink to webinar will be provided once you register!
X-ALT-DESC;FMTTYPE=text/html:<p style="margin-top: 0px\; margin-bottom: 10px\; line-height: 23.2px\; color: rgb(0\, 0\, 0)\; font-family: Lato\, Arial\, Helvetica\, sans-serif\; font-size: 16px\;">Responding to an RFP for government contracting can be difficult\, especially if you&#39\;ve never done it. This webinar will focus specifically on proposals\, which are typically required for larger\, more complex jobs that require more than just a price quote for a specific product.</p>\n\n<p style="margin-top: 0px\; margin-bottom: 10px\; line-height: 23.2px\; color: rgb(0\, 0\, 0)\; font-family: Lato\, Arial\, Helvetica\, sans-serif\; font-size: 16px\;">How do you prepare to respond to an RFP?</p>\n\n<p style="margin-top: 0px\; margin-bottom: 10px\; line-height: 23.2px\; color: rgb(0\, 0\, 0)\; font-family: Lato\, Arial\, Helvetica\, sans-serif\; font-size: 16px\;">What are the requirements of the proposal and what are the submission instructions?</p>\n\n<p style="margin-top: 0px\; margin-bottom: 10px\; line-height: 23.2px\; color: rgb(0\, 0\, 0)\; font-family: Lato\, Arial\, Helvetica\, sans-serif\; font-size: 16px\;">How will the proposals be evaluated?</p>\n\n<p style="margin-top: 0px\; margin-bottom: 10px\; line-height: 23.2px\; color: rgb(0\, 0\, 0)\; font-family: Lato\, Arial\, Helvetica\, sans-serif\; font-size: 16px\;">How do you write a responsive proposal?</p>\n\n<p style="margin-top: 0px\; margin-bottom: 10px\; line-height: 23.2px\; color: rgb(0\, 0\, 0)\; font-family: Lato\, Arial\, Helvetica\, sans-serif\; font-size: 16px\;">What do you do after you submit a proposal?</p>\n\n<p style="margin-top: 0px\; margin-bottom: 10px\; line-height: 23.2px\; color: rgb(0\, 0\, 0)\; font-family: Lato\, Arial\, Helvetica\, sans-serif\; font-size: 16px\;">Attendees will be provided handouts including 10 Proposal Writing Tips\, 10 Insights About How Proposal Evaluators Operate\, and a spreadsheet to help you decide whether to pursue an opportunity before starting the proposal.</p>\n\n<p style="margin-top: 0px\; margin-bottom: 10px\; line-height: 23.2px\; color: rgb(0\, 0\, 0)\; font-family: Lato\, Arial\, Helvetica\, sans-serif\; font-size: 16px\;">&nbsp\;</p>\n\n<p style="margin-top: 0px\; margin-bottom: 10px\; line-height: 23.2px\; color: rgb(0\, 0\, 0)\; font-family: Lato\, Arial\, Helvetica\, sans-serif\; font-size: 16px\;">&nbsp\;</p>\n\n<p style="margin-top: 0px\; margin-bottom: 10px\; line-height: 23.2px\; color: rgb(0\, 0\, 0)\; font-family: Lato\, Arial\, Helvetica\, sans-serif\; font-size: 16px\;">Facilitated by Frank Luna\, Procurement Advisor</p>\n\n<p style="margin-top: 0px\; margin-bottom: 10px\; line-height: 23.2px\; color: rgb(0\, 0\, 0)\; font-family: Lato\, Arial\, Helvetica\, sans-serif\; font-size: 16px\;">&nbsp\;</p>\n\n<p style="margin-top: 0px\; margin-bottom: 10px\; line-height: 23.2px\; color: rgb(0\, 0\, 0)\; font-family: Lato\, Arial\, Helvetica\, sans-serif\; font-size: 16px\;">Cost: Free\, but reservations required!</p>\n\n<p style="margin-top: 0px\; margin-bottom: 10px\; line-height: 23.2px\; color: rgb(0\, 0\, 0)\; font-family: Lato\, Arial\, Helvetica\, sans-serif\; font-size: 16px\;">&nbsp\;</p>\n\n<p style="margin-top: 0px\; margin-bottom: 10px\; line-height: 23.2px\; color: rgb(0\, 0\, 0)\; font-family: Lato\, Arial\, Helvetica\, sans-serif\; font-size: 16px\;">&nbsp\;</p>\n\n<h4 style="font-size: 17.6px\; font-style: italic\; padding-bottom: 2px\; padding-top: 0px\; margin: 0px\; vertical-align: top\; color: rgb(0\, 0\, 0)\; font-family: Lato\, Arial\, Helvetica\, sans-serif\;"><strong><span style="color: rgb(255\, 0\, 0)\;">Link to webinar will be provided once you register!</span></strong></h4>\n
LOCATION:Webinar
UID:e.2108.3909
SEQUENCE:3
DTSTAMP:20260423T054702Z
URL:https://business.anaheimchamber.org/events/details/creating-winning-proposals-for-the-government-3909
END:VEVENT

END:VCALENDAR
