BEGIN:VCALENDAR
VERSION:2.0
PRODID:-//ChamberMaster//Event Calendar 2.0//EN
METHOD:PUBLISH
X-PUBLISHED-TTL:P3D
REFRESH-INTERVAL:P3D
CALSCALE:GREGORIAN
BEGIN:VEVENT
DTSTART;VALUE=DATE:20180704
DTEND;VALUE=DATE:20180705
TRANSP:TRANSPARENT
X-MICROSOFT-CDO-ALLDAYEVENT:TRUE
SUMMARY:Dog Show Vendor
DESCRIPTION:Dog Show Vendor
X-ALT-DESC;FMTTYPE=text/html:<font face="comic sans ms"><span style="font-size: 20px\;">Dog Show Vendor</span></font><br />\n&nbsp\;
LOCATION:Canyon High School
UID:e.2108.2483
SEQUENCE:3
DTSTAMP:20260422T234900Z
URL:https://business.anaheimchamber.org/events/details/dog-show-vendor-2483
END:VEVENT

END:VCALENDAR
