BEGIN:VCALENDAR
VERSION:2.0
PRODID:-//ChamberMaster//Event Calendar 2.0//EN
METHOD:PUBLISH
X-PUBLISHED-TTL:P3D
REFRESH-INTERVAL:P3D
CALSCALE:GREGORIAN
BEGIN:VEVENT
DTSTART:20210226T230000Z
DTEND:20210227T000000Z
X-MICROSOFT-CDO-ALLDAYEVENT:FALSE
SUMMARY:EMAIL MARKETING WEBINAR SERIES
DESCRIPTION:Do you know how to effectively reach your audience through their inbox? Join us for this two-day series to learn what email marketing is and how to make the most impact with the emails you send!\n\nDay One | Thursday\, February 25 | Email Marketing Basics\n\n\n	What is email marketing?\n	How does email marketing work?\n	Why is email marketing important?\n\n\nDay Two | Friday\, February 26 | Email Marketing Campaigns\n\n\n	How to create an email list\n	How to get more email subscribers\n	How to improve email open rates
X-ALT-DESC;FMTTYPE=text/html:<p style="box-sizing: inherit\; margin: 0px 0px 5px\; padding: 0px 0px 8px\; font-family: &quot\;open sans&quot\;\, &quot\;arial narrow&quot\;\; font-size: 11px\; line-height: 14.3px\; color: rgb(101\, 101\, 101)\; float: none\; background-color: rgb(244\, 244\, 244)\;">Do you know how to effectively reach your audience through their inbox? Join us for this two-day series to learn what email marketing is and how to make the most impact with the emails you send!</p>\n\n<p style="box-sizing: inherit\; margin: 0px 0px 5px\; padding: 0px 0px 8px\; font-family: &quot\;open sans&quot\;\, &quot\;arial narrow&quot\;\; font-size: 11px\; line-height: 14.3px\; color: rgb(101\, 101\, 101)\; float: none\; background-color: rgb(244\, 244\, 244)\;">Day One | Thursday\, February 25 | Email Marketing Basics</p>\n\n<ul style="box-sizing: inherit\; margin: 0px\; padding: 0px 0px 5px 15px\; list-style-position: initial\; list-style-image: initial\; font-size: 13px\; color: rgb(101\, 101\, 101)\; font-family: &quot\;open sans&quot\;\, &quot\;arial narrow&quot\;\; background-color: rgb(244\, 244\, 244)\;">\n	<li style="box-sizing: inherit\; margin-bottom: 1rem\; border-bottom: 1px solid rgb(221\, 221\, 221)\; border-top: 1px solid rgb(221\, 221\, 221)\; padding: 0.5em 0px 10px\;">What is email marketing?</li>\n	<li style="box-sizing: inherit\; margin-bottom: 1rem\; border-bottom: 1px solid rgb(221\, 221\, 221)\; border-top: 1px solid rgb(221\, 221\, 221)\; padding: 0.5em 0px 10px\; margin-top: -1px\;">How does email marketing work?</li>\n	<li style="box-sizing: inherit\; margin-bottom: 1rem\; border-bottom: 1px solid rgb(221\, 221\, 221)\; border-top: 1px solid rgb(221\, 221\, 221)\; padding: 0.5em 0px 10px\; margin-top: -1px\;">Why is email marketing important?</li>\n</ul>\n\n<p style="box-sizing: inherit\; margin: 0px 0px 5px\; padding: 0px 0px 8px\; font-family: &quot\;open sans&quot\;\, &quot\;arial narrow&quot\;\; font-size: 11px\; line-height: 14.3px\; color: rgb(101\, 101\, 101)\; float: none\; background-color: rgb(244\, 244\, 244)\;">Day Two | Friday\, February 26 | Email Marketing Campaigns</p>\n\n<ul style="box-sizing: inherit\; margin: 0px\; padding: 0px 0px 5px 15px\; list-style-position: initial\; list-style-image: initial\; font-size: 13px\; color: rgb(101\, 101\, 101)\; font-family: &quot\;open sans&quot\;\, &quot\;arial narrow&quot\;\; background-color: rgb(244\, 244\, 244)\;">\n	<li style="box-sizing: inherit\; margin-bottom: 1rem\; border-bottom: 1px solid rgb(221\, 221\, 221)\; border-top: 1px solid rgb(221\, 221\, 221)\; padding: 0.5em 0px 10px\;">How to create an email list</li>\n	<li style="box-sizing: inherit\; margin-bottom: 1rem\; border-bottom: 1px solid rgb(221\, 221\, 221)\; border-top: 1px solid rgb(221\, 221\, 221)\; padding: 0.5em 0px 10px\; margin-top: -1px\;">How to get more email subscribers</li>\n	<li style="box-sizing: inherit\; margin-bottom: 1rem\; border-bottom: 1px solid rgb(221\, 221\, 221)\; border-top: 1px solid rgb(221\, 221\, 221)\; padding: 0.5em 0px 10px\; margin-top: -1px\;">How to improve email open rates</li>\n</ul>\n
LOCATION:Webinar
UID:e.2108.3852
SEQUENCE:3
DTSTAMP:20260423T054457Z
URL:https://business.anaheimchamber.org/events/details/email-marketing-webinar-series-3852
END:VEVENT

END:VCALENDAR
