BEGIN:VCALENDAR
VERSION:2.0
PRODID:-//ChamberMaster//Event Calendar 2.0//EN
METHOD:PUBLISH
X-PUBLISHED-TTL:P3D
REFRESH-INTERVAL:P3D
CALSCALE:GREGORIAN
BEGIN:VEVENT
DTSTART:20210204T010000Z
DTEND:20210204T030000Z
X-MICROSOFT-CDO-ALLDAYEVENT:FALSE
SUMMARY:Entrepreneurial and Leadership Series - 004 Financial Projections
DESCRIPTION:
X-ALT-DESC;FMTTYPE=text/html:
LOCATION:Webinar
UID:e.2108.3860
SEQUENCE:3
DTSTAMP:20260423T054825Z
URL:https://business.anaheimchamber.org/events/details/entrepreneurial-and-leadership-series-004-financial-projections-3860
END:VEVENT

END:VCALENDAR
