BEGIN:VCALENDAR
VERSION:2.0
PRODID:-//ChamberMaster//Event Calendar 2.0//EN
METHOD:PUBLISH
X-PUBLISHED-TTL:P3D
REFRESH-INTERVAL:P3D
CALSCALE:GREGORIAN
BEGIN:VEVENT
DTSTART:20170618T173000Z
DTEND:20170618T230000Z
X-MICROSOFT-CDO-ALLDAYEVENT:FALSE
SUMMARY:Father's Day Brunch
DESCRIPTION:Father's Day Brunch Sunday\, June 18\, 2017 $34.95 Adults\, $13.95 Children under 10 years- Includes Bottomless Champagne\, Orange Juice\, Iced tea\, Coffee\, tax and service charge. Plus all Fathers receive a complimentary glass of Bitburger Beer! Seating's every half hour starting at 10:30am until 1:30pm (Please note that seating's are limited to two and   hours) From the Carving Board Slow Roasted Prime Rib with "Au Jus" and Horseradish Cream\,Orange Glazed Ham with Rum Raisin Sauce Omelet Station Our Staff Chef will prepare your Choice of Omelets to Order with Assorted Toppings and Fillings Savory Breakfast and Lunch Selections Scrambled Eggs\, Crispy Bacon\, Breakfast Links\, Lyonnaise Potatoes\, BBQ Pork Ribs\, Chef Selection of White Fish (catch of the day) with Fresh Salsa\, German Sausages (bratwurst and hot polish)\, Pork Schnitzel\, Sauerbraten\, Roulades\, Beef Goulash\, Bacony Mashed Potatoes\, Creamy Chicken Soup\, Spatzle\, Sauerkraut\, Red Cabbage\, Chicken Breast with Red Bell Pepper Sauce\, Fresh Vegetables and Fresh Rolls Salad Bar Peel and Eat Shrimp with Cocktail sauce Fresh Fruit in Season Display\, Fresh Baby Greens with Choice of Dressing\, German Potato Salad\, Seafood Pasta Salad\, Southwestern Cole Slaw with Chipotle Dressing\, Antipasto Salad\, Cucumber-Tomato Salad with Dill Dressing\, Deli Cold Cuts Platter and Assorted Cheese Display Sweets Apple Strudel with Vanilla Sauce\, Black Forest Cake\, Bee-Sting Cake\, New York Cheese Cake\, Black Forest Cake\, Red Velvet Cake\, Chocolate Cake\, Cheese Blintzes with Berry Sauce\, German Pancakes and Kaiserchmarm Bottomless Champagne\, Orange Juice\, Iced tea\, Coffee\, tax and service charge Plus all Fathers receive a complimentary glass of Bitburger Beer! 1340 S. Sanderson Ave.\, Anaheim\, CA Reservations strongly recommended 714-563-4166 ext. 2
X-ALT-DESC;FMTTYPE=text/html:Father&rsquo\;s Day Brunch Sunday\, June 18\, 2017 $34.95 Adults\, $13.95 Children under 10 years- Includes Bottomless Champagne\, Orange Juice\, Iced tea\, Coffee\, tax and service charge. Plus&hellip\;all Fathers receive a complimentary glass of Bitburger Beer! Seating&#39\;s every half hour starting at 10:30am until 1:30pm (Please note that seating&#39\;s are limited to two and &frac12\; hours) From the Carving Board Slow Roasted Prime Rib with &ldquo\;Au Jus&rdquo\; and Horseradish Cream\,Orange Glazed Ham with Rum Raisin Sauce Omelet Station Our Staff Chef will prepare your Choice of Omelets to Order with Assorted Toppings and Fillings Savory Breakfast and Lunch Selections Scrambled Eggs\, Crispy Bacon\, Breakfast Links\, Lyonnaise Potatoes\, BBQ Pork Ribs\, Chef Selection of White Fish (catch of the day) with Fresh Salsa\, German Sausages (bratwurst and hot polish)\, Pork Schnitzel\, Sauerbraten\, Roulades\, Beef Goulash\, Bacony Mashed Potatoes\, Creamy Chicken Soup\, Spatzle\, Sauerkraut\, Red Cabbage\, Chicken Breast with Red Bell Pepper Sauce\, Fresh Vegetables and Fresh Rolls Salad Bar Peel and Eat Shrimp with Cocktail sauce Fresh Fruit in Season Display\, Fresh Baby Greens with Choice of Dressing\, German Potato Salad\, Seafood Pasta Salad\, Southwestern Cole Slaw with Chipotle Dressing\, Antipasto Salad\, Cucumber-Tomato Salad with Dill Dressing\, Deli Cold Cuts Platter and Assorted Cheese Display Sweets Apple Strudel with Vanilla Sauce\, Black Forest Cake\, Bee-Sting Cake\, New York Cheese Cake\, Black Forest Cake\, Red Velvet Cake\, Chocolate Cake\, Cheese Blintzes with Berry Sauce\, German Pancakes and Kaiserchmarm Bottomless Champagne\, Orange Juice\, Iced tea\, Coffee\, tax and service charge Plus&hellip\;all Fathers receive a complimentary glass of Bitburger Beer! 1340 S. Sanderson Ave.\, Anaheim\, CA Reservations strongly recommended 714-563-4166 ext. 2
LOCATION:The Phoenix Club- 1340 S Sanderson Ave\, Anaheim\, 92806
UID:e.2108.2357
SEQUENCE:3
DTSTAMP:20260422T025854Z
URL:https://business.anaheimchamber.org/events/details/father-s-day-brunch-2357
END:VEVENT

END:VCALENDAR
