BEGIN:VCALENDAR
VERSION:2.0
PRODID:-//ChamberMaster//Event Calendar 2.0//EN
METHOD:PUBLISH
X-PUBLISHED-TTL:P3D
REFRESH-INTERVAL:P3D
CALSCALE:GREGORIAN
BEGIN:VEVENT
DTSTART;VALUE=DATE:20170610
DTEND;VALUE=DATE:20170611
TRANSP:TRANSPARENT
X-MICROSOFT-CDO-ALLDAYEVENT:TRUE
SUMMARY:Fish Fest 2017
DESCRIPTION:June 10th | Honda Center\n\nClick here to purchase your tickets\n\nClick here for ticket prices and VIP info\n\n\n\nFEATURING\n\nTOBYMAC\n\nfor KING & COUNTRY\n\nCROWDER\n\nMAC POWELL \n\nJORDAN FELIZ\n\nHOLLYN\n\nZACH WILLIAMS\n\nFor the lowest ticketing fees\, visit the box office directly:\n\nHonda Center Box Office\n\nMonday thru Friday: 10am - 6pm\n\nSaturday: 10am - 4pm\n\nPhone: (714) 704-2500\n\nAddress: 2695 East Katella Ave\, Anaheim\, CA 92806\n\nAt Fishfest\, Honda Center will charge a fee for General Parking: $20 (cash only)\n\nInvite your friends and let them know about Fishfest 2017 here: https://www.facebook.com/events/1203486783081645/ \n\nThank You Sponsors: \n\n- See more at: http://www.thefishla.com/content/station-events/fishfest#sthash.SyEZTKQK.dpuf
X-ALT-DESC;FMTTYPE=text/html:<strong><span style="font-size: 18pt\;"><span style="font-family: helvetica\,sans-serif\;"><span style="color: fuchsia\;">June 10th | Honda Center</span></span></span></strong><br />\n<strong><span style="font-size: 36pt\;"><span style="font-family: helvetica\,sans-serif\;"><a href="http://www.ticketmaster.com/fishfest-2017-anaheim-california-06-10-2017/event/0900523FEB7F7684"><span style="color: rgb(0\, 0\, 255)\;">Click here to purchase your tickets</span></a></span></span></strong><br />\n<strong><span style="font-size: 18pt\;"><span style="font-family: helvetica\,sans-serif\;"><span style="color: rgb(51\, 102\, 255)\;"><a href="http://transparentproductions.com/events/fishfest"><span style="color: rgb(51\, 102\, 255)\;">Click here for ticket prices and VIP info</span></a></span></span></span></strong><br />\n<br />\n<strong><span style="font-size: 14pt\;"><span style="font-family: helvetica\,sans-serif\;"><span style="color: fuchsia\;">FEATURING</span></span></span></strong><br />\n<span style="font-size: 14pt\;"><span style="font-family: helvetica\,sans-serif\;"><span style="color: black\;">TOBYMAC</span></span></span><br />\n<span style="font-size: 14pt\;"><span style="font-family: helvetica\,sans-serif\;"><span style="color: black\;">for KING &amp\; COUNTRY</span></span></span><br />\n<span style="font-size: 14pt\;"><span style="font-family: helvetica\,sans-serif\;"><span style="color: black\;">CROWDER</span></span></span><br />\n<span style="font-size: 14pt\;"><span style="font-family: helvetica\,sans-serif\;"><span style="color: black\;">MAC POWELL&nbsp\;</span></span></span><br />\n<span style="font-size: 14pt\;"><span style="font-family: helvetica\,sans-serif\;"><span style="color: black\;">JORDAN FELIZ</span></span></span><br />\n<span style="font-size: 14pt\;"><span style="font-family: helvetica\,sans-serif\;"><span style="color: black\;">HOLLYN</span></span></span><br />\n<span style="font-size: 14pt\;"><span style="font-family: helvetica\,sans-serif\;"><span style="color: black\;">ZACH WILLIAMS</span></span></span><br />\n<strong><span style="font-size: 12pt\;"><span style="font-family: helvetica\,sans-serif\;"><span style="color: rgb(32\, 32\, 32)\;">For the lowest ticketing fees\, visit the box office directly:</span></span></span></strong><br />\n<span style="font-size: 12pt\;"><span style="font-family: helvetica\,sans-serif\;"><span style="color: rgb(32\, 32\, 32)\;">Honda Center Box Office</span></span></span><br />\n<span style="font-size: 12pt\;"><span style="font-family: helvetica\,sans-serif\;"><span style="color: rgb(32\, 32\, 32)\;">Monday thru Friday: 10am - 6pm</span></span></span><br />\n<span style="font-size: 12pt\;"><span style="font-family: helvetica\,sans-serif\;"><span style="color: rgb(32\, 32\, 32)\;">Saturday: 10am - 4pm</span></span></span><br />\n<span style="font-size: 12pt\;"><span style="font-family: helvetica\,sans-serif\;"><span style="color: rgb(32\, 32\, 32)\;">Phone: (714) 704-2500</span></span></span><br />\n<span style="font-size: 12pt\;"><span style="font-family: helvetica\,sans-serif\;"><span style="color: rgb(32\, 32\, 32)\;">Address: 2695 East Katella Ave\, Anaheim\, CA 92806</span></span></span><br />\n<strong><span style="background: yellow\;"><span style="font-size: 12pt\;"><span style="font-family: helvetica\,sans-serif\;"><span style="color: rgb(32\, 32\, 32)\;">At Fishfest\, Honda Center will charge a fee for General Parking: $20 (cash only)</span></span></span></span></strong><br />\n<span style="font-size: 10pt\;"><span style="font-family: helvetica\,sans-serif\;"><span style="color: black\;">Invite your friends and let them know about Fishfest 2017 here:<a href="https://www.facebook.com/events/1203486783081645/" target="_blank">&nbsp\;<span style="color: fuchsia\;">https://www.facebook.com/events/1203486783081645/&nbsp\;</span></a></span></span></span><br />\n<strong><span style="font-size: 24pt\;"><span style="font-family: helvetica\,sans-serif\;"><span style="color: black\;">Thank You Sponsors:&nbsp\;</span></span></span></strong><br />\n<span style="background: white\;"><span style="font-size: 12pt\;"><span style="font-family: helvetica\,sans-serif\;"><span style="color: rgb(32\, 32\, 32)\;">- See more at: <a href="http://www.thefishla.com/content/station-events/fishfest#sthash.SyEZTKQK.dpuf"><span style="color: rgb(0\, 0\, 255)\;">http://www.thefishla.com/content/station-events/fishfest#sthash.SyEZTKQK.dpuf</span></a></span></span></span></span><br />\n&nbsp\;
LOCATION:Honda Center Anaheim\, CA
UID:e.2108.2335
SEQUENCE:3
DTSTAMP:20260422T025829Z
URL:https://business.anaheimchamber.org/events/details/fish-fest-2017-2335
END:VEVENT

END:VCALENDAR
