BEGIN:VCALENDAR
VERSION:2.0
PRODID:-//ChamberMaster//Event Calendar 2.0//EN
METHOD:PUBLISH
X-PUBLISHED-TTL:P3D
REFRESH-INTERVAL:P3D
CALSCALE:GREGORIAN
BEGIN:VEVENT
DTSTART:20180324T190000Z
DTEND:20180324T220000Z
X-MICROSOFT-CDO-ALLDAYEVENT:FALSE
SUMMARY:Free Community Food Distribution
DESCRIPTION:Every month with help from our supporters at Raise Foundation & Hurtt Family Clinic\, the Boys & Girls Club of Anaheim provide our community with FREE Food & Medical Services. No registration required | All while supplies last.\n\n \n\nCada mes con la ayuda de nuestros patrocinadores Raise Foundation y Hurtt Family Clinic\, el Boys & Girls Club de Anaheim da comida GRATIS y Servicios Medicos. No se requiere registraci n | Todo hasta que se acabe la comida.
X-ALT-DESC;FMTTYPE=text/html:Every month with help from our supporters at Raise Foundation &amp\; Hurtt Family Clinic\, the Boys &amp\; Girls Club of Anaheim provide our community with FREE Food &amp\; Medical Services. No registration required | All while supplies last.<br />\n&nbsp\;<br />\nCada mes con la ayuda de nuestros patrocinadores Raise Foundation y Hurtt Family Clinic\, el Boys &amp\; Girls Club de Anaheim da comida GRATIS y Servicios Medicos. No se requiere registraci&oacute\;n | Todo hasta que se acabe la comida.
LOCATION:Boys & Girls Clubs of Anaheim 1260 N. Riviera St. Anaheim\, CA 92801
UID:e.2108.2464
SEQUENCE:3
DTSTAMP:20260422T175026Z
URL:https://business.anaheimchamber.org/events/details/free-community-food-distribution-2464
END:VEVENT

END:VCALENDAR
