BEGIN:VCALENDAR
VERSION:2.0
PRODID:-//ChamberMaster//Event Calendar 2.0//EN
METHOD:PUBLISH
X-PUBLISHED-TTL:P3D
REFRESH-INTERVAL:P3D
CALSCALE:GREGORIAN
BEGIN:VEVENT
DTSTART:20170323T230000Z
DTEND:20170324T040000Z
X-MICROSOFT-CDO-ALLDAYEVENT:FALSE
SUMMARY:GardenWalk Grand Celebration Thursday March 23rd\, 2017
DESCRIPTION:Come join us for The Grand Celebration Event at the GardenWalk.  Help welcome all the new entities of the Center.  There will be Food Samples\, Live Entertainment\, Promotions\, Giveaways and a Photo Booth!
X-ALT-DESC;FMTTYPE=text/html:Come join us&nbsp\;for The&nbsp\;Grand Celebration Event at the GardenWalk.&nbsp\; Help welcome all the new entities of the Center.&nbsp\; There will be Food Samples\, Live Entertainment\, Promotions\, Giveaways and a Photo Booth!
LOCATION:400 Disney Way\, Anaheim\, CA 92802
UID:e.2108.2330
SEQUENCE:3
DTSTAMP:20260421T234205Z
URL:https://business.anaheimchamber.org/events/details/gardenwalk-grand-celebration-thursday-march-23rd-2017-2330
END:VEVENT

END:VCALENDAR
