BEGIN:VCALENDAR
VERSION:2.0
PRODID:-//ChamberMaster//Event Calendar 2.0//EN
METHOD:PUBLISH
X-PUBLISHED-TTL:P3D
REFRESH-INTERVAL:P3D
CALSCALE:GREGORIAN
BEGIN:VEVENT
DTSTART:20211201T000000Z
DTEND:20211201T060000Z
X-MICROSOFT-CDO-ALLDAYEVENT:FALSE
SUMMARY:Giving Brewsday
DESCRIPTION:Join us on Giving Tuesday on November 30 at The Bruery Terreux Tasting Room. The Bruery has generously offered to donate 20% of the proceeds from the evening to Illumination Foundation. Invite your colleagues and business associates to join you for an evening of food and drinks. Network with others in the community while supporting a local business and non profit organization.
X-ALT-DESC;FMTTYPE=text/html:Join us on Giving Tuesday on November 30 at The Bruery Terreux Tasting Room. The Bruery has generously offered to donate 20% of the proceeds from the evening to Illumination Foundation. Invite your colleagues and business associates to join you for an evening of food and drinks. Network with others in the community while supporting a local business and non profit organization.&nbsp\;
LOCATION:Bruery Terreux Tasting Room 1174 N. Grove St. Anaheim\, CA 92806
UID:e.2108.4491
SEQUENCE:3
DTSTAMP:20260420T195747Z
URL:https://business.anaheimchamber.org/events/details/giving-brewsday-4491
END:VEVENT

END:VCALENDAR
