BEGIN:VCALENDAR
VERSION:2.0
PRODID:-//ChamberMaster//Event Calendar 2.0//EN
METHOD:PUBLISH
X-PUBLISHED-TTL:P3D
REFRESH-INTERVAL:P3D
CALSCALE:GREGORIAN
BEGIN:VEVENT
DTSTART:20160805T143000Z
DTEND:20160805T160000Z
X-MICROSOFT-CDO-ALLDAYEVENT:FALSE
SUMMARY:Good Morning Anaheim
DESCRIPTION:Business Strategies\, Quality Networking and Great Food\n\nNetworking begins at 7:30 a.m. followed by breakfast and 30-second commercials by each attendee. Prepare to tell the group about your business or services and bring lots of business cards. You never know where you are going to meet your next lead! \n\n \n\nFriday\, August 6\, 2016 @ 7:30 am to 9:00 am\n\nGOOD MORNING ANAHEIM BREAKFAST\n\nAnaheim Chamber of Commerce Offices\n\n2400 E. Katella Ave Suite 725\n\nAnaheim\, CA 92806\n\n \n\n$15 for Members / $25 for Non-Members
X-ALT-DESC;FMTTYPE=text/html:<span style="font-size:12px\;"><strong><em><span style="color:#212121\;"><span style="font-family:arial\,sans-serif\;">Business Strategies\, Quality Networking and Great Food</span></span></em></strong></span><br />\n<em><span style="color:#000001\;"><span style="font-family:arial\,sans-serif\;"><span style="font-size:10.0pt\;">Networking begins at 7:30 a.m. followed by breakfast and 30-second commercials by each attendee. Prepare to tell the group about your business or services and bring lots of business cards. You never know where you are going to meet your next lead!&nbsp\;</span></span></span></em><br />\n&nbsp\;<br />\n<strong><span style="color:#000001\;"><span style="font-family:arial\,sans-serif\;"><span style="font-size:10.0pt\;">Friday\, August 6\, 2016 @&nbsp\;7:30&nbsp\;am to 9:00&nbsp\;am</span></span></span></strong><br />\n<strong><span style="color:maroon\;"><span style="font-family:arial\,sans-serif\;"><span style="font-size:10.0pt\;">GOOD MORNING ANAHEIM BREAKFAST</span></span></span></strong><br />\n<span style="color:#000001\;"><span style="font-family:arial\,sans-serif\;"><span style="font-size:10.0pt\;"><a alt="http://www.anaheimchamber.org" href="http://r20.rs6.net/tn.jsp?f=001bRL3TMT67FuMH4hjgpj3JYSXhmv-hiATFGai3zAZ1bsbYd5i2vDkkcLjyv6udGZG46tj46Wv-BC2rc_oCZsUqeqAkLfN34G_tlkpxStP4Srl7tv6YtoOTEtP5TRELqeYegvz_GsqQlu36Ghkv1qYMBM2TUzMCDZH8TViKHKNpBSeqsKDAF-Q1g==&amp\;c=LuQ5cSvJmZh8FaNncJhjDfXdvTOCUTczeZBFjHjWJJkJzsaE8qIImg==&amp\;ch=hGj0lEWjhhd4X41fkcM9G6473RurOfdwytcgLoS0SNydPfIY3rTJWw==" linktype="1" shape="rect" target="_blank" track="on">Anaheim Chamber of Commerce Offices</a></span></span></span><br />\n<span style="color:#000001\;"><span style="font-family:arial\,sans-serif\;"><span style="font-size:10.0pt\;">2400 E. Katella Ave Suite 725</span></span></span><br />\n<span style="color:#000001\;"><span style="font-family:arial\,sans-serif\;"><span style="font-size:10.0pt\;">Anaheim\, CA 92806</span></span></span><br />\n&nbsp\;<br />\n<span style="color:#000001\;"><span style="font-family:arial\,sans-serif\;"><span style="font-size:10.0pt\;">$15 for Members / $25 for Non-Members</span></span></span><br />\n&nbsp\;<br />\n&nbsp\;
LOCATION:Anaheim Chamber of Commerce Offices 2400 E. Katella Ave Suite 725 Anaheim\, CA 92806
UID:e.2108.1899
SEQUENCE:3
DTSTAMP:20260421T105611Z
URL:https://business.anaheimchamber.org/events/details/good-morning-anaheim-08-05-2016-1899
END:VEVENT

END:VCALENDAR
