BEGIN:VCALENDAR
VERSION:2.0
PRODID:-//ChamberMaster//Event Calendar 2.0//EN
METHOD:PUBLISH
X-PUBLISHED-TTL:P3D
REFRESH-INTERVAL:P3D
CALSCALE:GREGORIAN
BEGIN:VEVENT
DTSTART:20141107T153000Z
DTEND:20141107T170000Z
X-MICROSOFT-CDO-ALLDAYEVENT:FALSE
SUMMARY:Good Morning Anaheim
DESCRIPTION:Good Morning Anaheim is Anaheim Chamber's networking event for our early risers. Typically held on the first Friday of the month from 7:30 a.m. to 9 a.m.\, this breakfast offers excellent business networking and interesting business topics from a new speaker every month.\n\nPromote your business further by donating a door prize\, which is raffled off at the end of the breakfast. Every attendee can drop a business card at the door and get a chance to win one of the great door prizes. All donors are recognized publicly at First Friday Breakfast and in This Week in Anaheim.
X-ALT-DESC;FMTTYPE=text/html:<p><span style="font-size:10px\;"><span background-color:="" display:="" float:="" font-style:="" font-variant:="" font-weight:="" inline="" letter-spacing:="" line-height:="" pt="" sans="" style="color: rgb(0\, 0\, 0)\;" text-align:="" text-indent:="" text-transform:="" white-space:="" word-spacing:="">Good Morning Anaheim is Anaheim Chamber&rsquo\;s networking event for our early risers.&nbsp\;Typically held on the first Friday of the month from 7:30 a.m. to 9 a.m.\, this breakfast offers excellent business networking and interesting business topics from a new speaker every month.</span></span></p>\n\n<p><span style="font-size:11px\;"><span style="font-size:10px\;"><span style="color: rgb(0\, 0\, 0)\; font-family: &quot\;PT Sans Narrow&quot\;\,sans-serif\; font-style: normal\; font-variant: normal\; font-weight: normal\; letter-spacing: normal\; line-height: 24px\; text-align: start\; text-indent: 0px\; text-transform: none\; white-space: normal\; word-spacing: 0px\; background-color: rgba(255\, 255\, 255\, 0.6)\; display: inline ! important\; float: none\;">Promote your business further by donating a door prize\, which is raffled off at the end of the breakfast. Every attendee can drop a business card at the door and get a chance to win one of the great door prizes. All donors are recognized publicly at First Friday Breakfast and in&nbsp\;</span><a href="http://www.anaheimchamber.org/thisweek.asp" style="text-decoration: none\; color: rgb(81\, 0\, 23)\; font-family: 'PT Sans Narrow'\, sans-serif\; font-size: 17px\; font-style: normal\; font-variant: normal\; font-weight: normal\; letter-spacing: normal\; line-height: 24px\; orphans: auto\; text-align: start\; text-indent: 0px\; text-transform: none\; white-space: normal\; widows: auto\; word-spacing: 0px\; -webkit-text-stroke-width: 0px\; background-color: rgba(255\, 255\, 255\, 0.6)\;">This Week in Anaheim</a><span style="color: rgb(0\, 0\, 0)\; font-family: &quot\;PT Sans Narrow&quot\;\,sans-serif\; font-style: normal\; font-variant: normal\; font-weight: normal\; letter-spacing: normal\; line-height: 24px\; text-align: start\; text-indent: 0px\; text-transform: none\; white-space: normal\; word-spacing: 0px\; background-color: rgba(255\, 255\, 255\, 0.6)\; display: inline ! important\; float: none\;">.</span></span></span></p>\n
LOCATION:Pacific Western Bank 101 E Lincoln Ave #125 Anaheim\, CA (714) 535-2400
UID:e.2108.1467
SEQUENCE:3
DTSTAMP:20260420T011928Z
URL:https://business.anaheimchamber.org/events/details/good-morning-anaheim-11-07-2014-1467
END:VEVENT

END:VCALENDAR
