BEGIN:VCALENDAR
VERSION:2.0
PRODID:-//ChamberMaster//Event Calendar 2.0//EN
METHOD:PUBLISH
X-PUBLISHED-TTL:P3D
REFRESH-INTERVAL:P3D
CALSCALE:GREGORIAN
BEGIN:VEVENT
DTSTART:20230602T143000Z
DTEND:20230602T160000Z
X-MICROSOFT-CDO-ALLDAYEVENT:FALSE
SUMMARY:Good Morning Anaheim
DESCRIPTION:Join us for our June Good Morning Anaheim Networking Breakfast
X-ALT-DESC;FMTTYPE=text/html:Join us for our June Good Morning Anaheim Networking Breakfast
LOCATION:NORMS 1125 N Euclid St\, Anaheim\, CA 92801
UID:e.2108.5259
SEQUENCE:3
DTSTAMP:20260419T141238Z
URL:https://business.anaheimchamber.org/events/details/good-morning-anaheim-5259
END:VEVENT

END:VCALENDAR
