BEGIN:VCALENDAR
VERSION:2.0
PRODID:-//ChamberMaster//Event Calendar 2.0//EN
METHOD:PUBLISH
X-PUBLISHED-TTL:P3D
REFRESH-INTERVAL:P3D
CALSCALE:GREGORIAN
BEGIN:VEVENT
DTSTART:20230804T143000Z
DTEND:20230804T160000Z
X-MICROSOFT-CDO-ALLDAYEVENT:FALSE
SUMMARY:Good Morning Anaheim
DESCRIPTION:Join us for our August Good Morning Anaheim networking breakfast!
X-ALT-DESC;FMTTYPE=text/html:<strong>Join us for our August Good Morning Anaheim networking breakfast!</strong>
LOCATION:Emerald Court 1731 W. Medical Center Drive
UID:e.2108.5266
SEQUENCE:3
DTSTAMP:20260419T154718Z
URL:https://business.anaheimchamber.org/events/details/good-morning-anaheim-5266
END:VEVENT

END:VCALENDAR
