BEGIN:VCALENDAR
VERSION:2.0
PRODID:-//ChamberMaster//Event Calendar 2.0//EN
METHOD:PUBLISH
X-PUBLISHED-TTL:P3D
REFRESH-INTERVAL:P3D
CALSCALE:GREGORIAN
BEGIN:VEVENT
DTSTART:20151106T153000Z
DTEND:20151106T170000Z
X-MICROSOFT-CDO-ALLDAYEVENT:FALSE
SUMMARY:Good Morning Anaheim Breakfast
DESCRIPTION:
X-ALT-DESC;FMTTYPE=text/html:
LOCATION:Anaheim Majestic Garden Hotel 900 South Disneyland Dr Anaheim CA 92802
UID:e.2108.1697
SEQUENCE:3
DTSTAMP:20260420T201025Z
URL:https://business.anaheimchamber.org/events/details/good-morning-anaheim-breakfast-11-06-2015-1697
END:VEVENT

END:VCALENDAR
