BEGIN:VCALENDAR
VERSION:2.0
PRODID:-//ChamberMaster//Event Calendar 2.0//EN
METHOD:PUBLISH
X-PUBLISHED-TTL:P3D
REFRESH-INTERVAL:P3D
CALSCALE:GREGORIAN
BEGIN:VEVENT
DTSTART:20150403T143000Z
DTEND:20150403T160000Z
X-MICROSOFT-CDO-ALLDAYEVENT:FALSE
SUMMARY:Good Morning Anaheim Breakfast - April 3rd\, 2015
DESCRIPTION:Networking begins at 7:30 a.m. followed by breakfast and 30 second commercials. Prepare to tell the group about your business or services. Bring literature and business cards. Join us for a great morning of networking and education.
X-ALT-DESC;FMTTYPE=text/html:Networking begins at 7:30 a.m. followed by breakfast and 30 second commercials. Prepare to tell the group about your business or services. Bring literature and business cards. Join us for a great morning of networking and education.
LOCATION:Clarion Hotel 616 Convention Way Anaheim\, CA 92802 www.clarionanaheim.com
UID:e.2108.1629
SEQUENCE:3
DTSTAMP:20260420T094717Z
URL:https://business.anaheimchamber.org/events/details/good-morning-anaheim-breakfast-april-3rd-2015-04-03-2015-1629
END:VEVENT

END:VCALENDAR
