BEGIN:VCALENDAR
VERSION:2.0
PRODID:-//ChamberMaster//Event Calendar 2.0//EN
METHOD:PUBLISH
X-PUBLISHED-TTL:P3D
REFRESH-INTERVAL:P3D
CALSCALE:GREGORIAN
BEGIN:VEVENT
DTSTART:20170407T143000Z
DTEND:20170407T160000Z
X-MICROSOFT-CDO-ALLDAYEVENT:FALSE
SUMMARY:Good Morning Anaheim Breakfast - April 7th\, 2017
DESCRIPTION:Networking begins at 7:30 a.m. followed by breakfast and 30 second commercials. Prepare to tell the group about your business or services. Bring literature and business cards. Join us for a great morning of networking and education.
X-ALT-DESC;FMTTYPE=text/html:Networking begins at 7:30 a.m. followed by breakfast and 30 second commercials. Prepare to tell the group about your business or services. Bring literature and business cards. Join us for a great morning of networking and education.
LOCATION:Holiday Inn - Anaheim Resort Area 1915 S. Manchester Ave. Anaheim\, CA 92802
UID:e.2108.2307
SEQUENCE:3
DTSTAMP:20260421T234611Z
URL:https://business.anaheimchamber.org/events/details/good-morning-anaheim-breakfast-april-7th-2017-2307
END:VEVENT

END:VCALENDAR
