BEGIN:VCALENDAR
VERSION:2.0
PRODID:-//ChamberMaster//Event Calendar 2.0//EN
METHOD:PUBLISH
X-PUBLISHED-TTL:P3D
REFRESH-INTERVAL:P3D
CALSCALE:GREGORIAN
BEGIN:VEVENT
DTSTART:20160205T153000Z
DTEND:20160205T170000Z
X-MICROSOFT-CDO-ALLDAYEVENT:FALSE
SUMMARY:Good Morning Anaheim Breakfast - February 5\, 2016
DESCRIPTION:Networking begins at 7:30 a.m. followed by breakfast and 30 second commercials. Prepare to tell the group about your business or services. Bring literature and business cards. Join us for a great morning of networking and education.
X-ALT-DESC;FMTTYPE=text/html:Networking begins at 7:30 a.m. followed by breakfast and 30 second commercials. Prepare to tell the group about your business or services. Bring literature and business cards. Join us for a great morning of networking and education.
LOCATION:Anabella Hotel 1030 W Katella Ave\, Anaheim\, CA 92802
UID:e.2108.1708
SEQUENCE:3
DTSTAMP:20260421T011204Z
URL:https://business.anaheimchamber.org/events/details/good-morning-anaheim-breakfast-february-5-2016-02-05-2016-1708
END:VEVENT

END:VCALENDAR
