BEGIN:VCALENDAR
VERSION:2.0
PRODID:-//ChamberMaster//Event Calendar 2.0//EN
METHOD:PUBLISH
X-PUBLISHED-TTL:P3D
REFRESH-INTERVAL:P3D
CALSCALE:GREGORIAN
BEGIN:VEVENT
DTSTART:20200207T153000Z
DTEND:20200207T170000Z
X-MICROSOFT-CDO-ALLDAYEVENT:FALSE
SUMMARY:Good Morning Anaheim Breakfast - February 7\, 2020
DESCRIPTION:This program is for those who are serious about networking and generating leads. Join us on the first Friday of each month for this networking opportunity. Bring business cards and prepare a good 30 second introduction. Reservations are required as space is limited. Promote your business further by donating a door prize\, which is raffled off at the end of the breakfast. Every attendee can drop a business card at the door and get a chance to win one of the great door prizes. All donors are recognized publicly.
X-ALT-DESC;FMTTYPE=text/html:<span style="color: rgb(0\, 0\, 0)\; font-family: GothamLight\; font-size: 15px\; letter-spacing: 1px\;">This program is for those who are serious about networking and generating leads. Join us on the first Friday of each month for this networking opportunity. Bring business cards and prepare a good 30 second introduction. Reservations are required as space is limited. Promote your business further by donating a door prize\, which is raffled off at the end of the breakfast. Every attendee can drop a business card at the door and get a chance to win one of the great door prizes. All donors are recognized publicly.</span>
LOCATION:Karl Strauss Brewing Company 2390 E Orangewood Ave. Anaheim\, CA 92806
UID:e.2108.2844
SEQUENCE:3
DTSTAMP:20260422T172351Z
URL:https://business.anaheimchamber.org/events/details/good-morning-anaheim-breakfast-february-7-2020-2844
END:VEVENT

END:VCALENDAR
