BEGIN:VCALENDAR
VERSION:2.0
PRODID:-//ChamberMaster//Event Calendar 2.0//EN
METHOD:PUBLISH
X-PUBLISHED-TTL:P3D
REFRESH-INTERVAL:P3D
CALSCALE:GREGORIAN
BEGIN:VEVENT
DTSTART:20180601T143000Z
DTEND:20180601T160000Z
X-MICROSOFT-CDO-ALLDAYEVENT:FALSE
SUMMARY:Good Morning Anaheim Breakfast - June 1st\, 2018
DESCRIPTION:Networking begins at 7:30 a.m. followed by breakfast and 30 second commercials. Prepare to tell the group about your business or services. Bring literature and business cards. Join us for a great morning of networking and education.
X-ALT-DESC;FMTTYPE=text/html:Networking begins at 7:30 a.m. followed by breakfast and 30 second commercials. Prepare to tell the group about your business or services. Bring literature and business cards. Join us for a great morning of networking and education.
LOCATION:Four Points by Sheraton 1221 S. Harbor Blvd Anaheim\, CA 92805
UID:e.2108.2456
SEQUENCE:3
DTSTAMP:20260422T221234Z
URL:https://business.anaheimchamber.org/events/details/good-morning-anaheim-breakfast-june-1st-2018-2456
END:VEVENT

END:VCALENDAR
