BEGIN:VCALENDAR
VERSION:2.0
PRODID:-//ChamberMaster//Event Calendar 2.0//EN
METHOD:PUBLISH
X-PUBLISHED-TTL:P3D
REFRESH-INTERVAL:P3D
CALSCALE:GREGORIAN
BEGIN:VEVENT
DTSTART:20160603T143000Z
DTEND:20160603T160000Z
X-MICROSOFT-CDO-ALLDAYEVENT:FALSE
SUMMARY:Good Morning Anaheim Breakfast - June 3rd \, 2016
DESCRIPTION:Join us for a great morning of networking and education. Networking begins at 7:30 a.m. followed by breakfast\, 30-second commercials from all attendees\, and a special presentation by Juan Reveles from the Anaheim Police Department speaking on the important subject of human trafficking.
X-ALT-DESC;FMTTYPE=text/html:<span style="line-height: 20.8px\;">Join us for a great morning of networking and education.&nbsp\;</span>Networking begins at 7:30 a.m. followed by breakfast\, 30-second commercials from all attendees\, and a special presentation by Juan Reveles from the&nbsp\;Anaheim Police Department speaking on the important subject of human trafficking.&nbsp\;<br />\n<br />\n&nbsp\;
LOCATION:First Team Real Estate 8028 E. Santa Ana Canyon Rd. Anaheim Hills\, CA 92808
UID:e.2108.1868
SEQUENCE:3
DTSTAMP:20260421T075209Z
URL:https://business.anaheimchamber.org/events/details/good-morning-anaheim-breakfast-june-3rd-2016-06-03-2016-1868
END:VEVENT

END:VCALENDAR
