BEGIN:VCALENDAR
VERSION:2.0
PRODID:-//ChamberMaster//Event Calendar 2.0//EN
METHOD:PUBLISH
X-PUBLISHED-TTL:P3D
REFRESH-INTERVAL:P3D
CALSCALE:GREGORIAN
BEGIN:VEVENT
DTSTART:20150605T143000Z
DTEND:20150605T160000Z
X-MICROSOFT-CDO-ALLDAYEVENT:FALSE
SUMMARY:Good Morning Anaheim Breakfast - June 5th\, 2015
DESCRIPTION:The City of Anaheim and California are in the fourth year of a historic drought. The presentation by Anaheim Public Utilities will review the impact of the drought on our water supply and the newly adopted watering restrictions approved by the City Council. \n\n\n\nThe presenter will be \n\nMichael Moore\, Anaheim Public Utilities\, Engineering Manager\n\n\n\nNetworking begins at 7:30 a.m. followed by breakfast and 30 second commercials. Prepare to tell the group about your business or services. Bring literature and business cards. Join us for a great morning of networking and education.
X-ALT-DESC;FMTTYPE=text/html:<span style="color:#000001\;"><span style="font-family:arial\,sans-serif\;"><span style="font-size:10.0pt\;">The City of Anaheim and California are in the fourth year of a historic drought. The presentation by Anaheim Public Utilities will review the impact of the drought on our water supply and the newly adopted watering restrictions approved by the City Council.&nbsp\;</span></span></span><br />\n<br />\n<span style="line-height: 20.7999992370605px\; color: rgb(0\, 0\, 1)\;"><span style="font-family: arial\, sans-serif\;"><span style="font-size: 10pt\;">The presenter will be&nbsp\;</span></span></span><br style="line-height: 20.7999992370605px\;" />\n<em style="line-height: 20.7999992370605px\;"><strong><span style="color: rgb(0\, 0\, 1)\;"><span style="font-family: arial\, sans-serif\;"><span style="font-size: 10pt\;">Michael Moore\, Anaheim Public Utilities\, Engineering Manager</span></span></span></strong></em><br />\n<br />\nNetworking begins at 7:30 a.m. followed by breakfast and 30 second commercials. Prepare to tell the group about your business or services. Bring literature and business cards. Join us for a great morning of networking and education.
LOCATION:Anaheim Chamber of Commerce 2400 E Katella Ave.\, Suite 725 Anaheim\, CA 92806 www.anaheimchamber.org
UID:e.2108.1653
SEQUENCE:3
DTSTAMP:20260420T123154Z
URL:https://business.anaheimchamber.org/events/details/good-morning-anaheim-breakfast-june-5th-2015-06-05-2015-1653
END:VEVENT

END:VCALENDAR
