BEGIN:VCALENDAR
VERSION:2.0
PRODID:-//ChamberMaster//Event Calendar 2.0//EN
METHOD:PUBLISH
X-PUBLISHED-TTL:P3D
REFRESH-INTERVAL:P3D
CALSCALE:GREGORIAN
BEGIN:VEVENT
DTSTART:20160304T153000Z
DTEND:20160304T170000Z
X-MICROSOFT-CDO-ALLDAYEVENT:FALSE
SUMMARY:Good Morning Anaheim Breakfast - March 4\, 2016
DESCRIPTION:Suzanne Richards\, Chief Executive Officer of Healthcare Operations for KPC Health\, will be discussing how managing a 7-hospital healthcare system has evolved in the wake of the Affordable Health Care Act. In addition\, she will be discussing her efforts to transform the oldest hospital system in Orange County into a thriving healthcare delivery operation that provides some of the county's most specialized services.\n\n\n\nNetworking begins at 7:30 a.m. followed by breakfast and 30 second commercials. Prepare to tell the group about your business or services. Bring literature and business cards. Join us for a great morning of networking and education.
X-ALT-DESC;FMTTYPE=text/html:<span style="color: rgb(0\, 0\, 0)\; font-family: Calibri\, sans-serif\; font-size: 15px\; line-height: normal\;">Suzanne Richards\, Chief Executive Officer of Healthcare Operations for KPC Health\, will be discussing how managing a 7-hospital healthcare system has evolved in the wake of the Affordable Health Care Act. In addition\, she will be discussing her efforts to transform the oldest hospital system in Orange County into a thriving healthcare delivery operation that provides some of the county&rsquo\;s most specialized services.</span><br />\n<br />\n<span style="color: rgb(0\, 0\, 1)\; font-family: Arial\, Helvetica\, sans-serif\; line-height: normal\;">Networking begins at 7:30 a.m. followed by breakfast and 30 second commercials. Prepare to tell the group about your business or services. Bring literature and business cards. Join us for a great morning of networking and education.</span>
LOCATION:Anaheim Chamber of Commerce 2400 E Katella Ave\, Suite 725 Anaheim\, CA 92805
UID:e.2108.1717
SEQUENCE:3
DTSTAMP:20260421T030223Z
URL:https://business.anaheimchamber.org/events/details/good-morning-anaheim-breakfast-march-4-2016-03-04-2016-1717
END:VEVENT

END:VCALENDAR
