BEGIN:VCALENDAR
VERSION:2.0
PRODID:-//ChamberMaster//Event Calendar 2.0//EN
METHOD:PUBLISH
X-PUBLISHED-TTL:P3D
REFRESH-INTERVAL:P3D
CALSCALE:GREGORIAN
BEGIN:VEVENT
DTSTART:20150306T153000Z
DTEND:20150306T170000Z
X-MICROSOFT-CDO-ALLDAYEVENT:FALSE
SUMMARY:Good Morning Anaheim Breakfast - March 6th\, 2015
DESCRIPTION:Networking begins at 7:30 a.m. followed by breakfast and 30 second commercials. Prepare to tell the group about your business or services. Bring literature and business cards. Join us for a great morning of networking and education.
X-ALT-DESC;FMTTYPE=text/html:Networking begins at 7:30 a.m. followed by breakfast and 30 second commercials. Prepare to tell the group about your business or services. Bring literature and business cards. Join us for a great morning of networking and education.
LOCATION:Anaheim Chamber of Commerce 2400 E. Katella Ave.\, Suite 725 Anaheim\, CA 92806
UID:e.2108.1627
SEQUENCE:3
DTSTAMP:20260420T080939Z
URL:https://business.anaheimchamber.org/events/details/good-morning-anaheim-breakfast-march-6th-2015-03-06-2015-1627
END:VEVENT

END:VCALENDAR
