BEGIN:VCALENDAR
VERSION:2.0
PRODID:-//ChamberMaster//Event Calendar 2.0//EN
METHOD:PUBLISH
X-PUBLISHED-TTL:P3D
REFRESH-INTERVAL:P3D
CALSCALE:GREGORIAN
BEGIN:VEVENT
DTSTART:20160506T143000Z
DTEND:20160506T160000Z
X-MICROSOFT-CDO-ALLDAYEVENT:FALSE
SUMMARY:Good Morning Anaheim Breakfast - May 6\, 2016
DESCRIPTION:Networking begins at 7:30 a.m. followed by breakfast and 30 second commercials. Prepare to tell the group about your business or services. Bring literature and business cards. Join us for a great morning of networking and education.
X-ALT-DESC;FMTTYPE=text/html:Networking begins at 7:30 a.m. followed by breakfast and 30 second commercials. Prepare to tell the group about your business or services. Bring literature and business cards. Join us for a great morning of networking and education.
LOCATION:Anaheim Chamber of Commerce 2400 E. Katella Ave.\, Ste. 725 Anaheim\, CA 92806
UID:e.2108.1865
SEQUENCE:3
DTSTAMP:20260421T075209Z
URL:https://business.anaheimchamber.org/events/details/good-morning-anaheim-breakfast-may-6-2016-05-06-2016-1865
END:VEVENT

END:VCALENDAR
