BEGIN:VCALENDAR
VERSION:2.0
PRODID:-//ChamberMaster//Event Calendar 2.0//EN
METHOD:PUBLISH
X-PUBLISHED-TTL:P3D
REFRESH-INTERVAL:P3D
CALSCALE:GREGORIAN
BEGIN:VEVENT
DTSTART:20181102T143000Z
DTEND:20181102T160000Z
X-MICROSOFT-CDO-ALLDAYEVENT:FALSE
SUMMARY:Good Morning Anaheim Breakfast - November 2\, 2018
DESCRIPTION:Networking begins at 7:30 a.m. followed by breakfast and 30 second commercials. Prepare to tell the group about your business or services. Bring literature and business cards. Join us for a great morning of networking and education.
X-ALT-DESC;FMTTYPE=text/html:Networking begins at 7:30 a.m. followed by breakfast and 30 second commercials. Prepare to tell the group about your business or services. Bring literature and business cards. Join us for a great morning of networking and education.
LOCATION:Innovation High School OC 505 N Euclid St. Anaheim\, CA 92801
UID:e.2108.2493
SEQUENCE:3
DTSTAMP:20260419T141521Z
URL:https://business.anaheimchamber.org/events/details/good-morning-anaheim-breakfast-november-2-2018-2493
END:VEVENT

END:VCALENDAR
