BEGIN:VCALENDAR
VERSION:2.0
PRODID:-//ChamberMaster//Event Calendar 2.0//EN
METHOD:PUBLISH
X-PUBLISHED-TTL:P3D
REFRESH-INTERVAL:P3D
CALSCALE:GREGORIAN
BEGIN:VEVENT
DTSTART:20161104T143000Z
DTEND:20161104T160000Z
X-MICROSOFT-CDO-ALLDAYEVENT:FALSE
SUMMARY:Good Morning Anaheim Breakfast -November 4th
DESCRIPTION:Networking begins at 7:30 a.m. followed by breakfast and 30 second commercials. Prepare to tell the group about your business or services. Bring literature and business cards. Join us for a great morning of networking and education.
X-ALT-DESC;FMTTYPE=text/html:Networking begins at 7:30 a.m. followed by breakfast and 30 second commercials. Prepare to tell the group about your business or services. Bring literature and business cards. Join us for a great morning of networking and education.
LOCATION:Pacific Western Bank 101 E. Lincoln Ave.\, Ste. 125 Anaheim\, CA 92805
UID:e.2108.1725
SEQUENCE:3
DTSTAMP:20260421T160011Z
URL:https://business.anaheimchamber.org/events/details/good-morning-anaheim-breakfast-november-4th-11-04-2016-1725
END:VEVENT

END:VCALENDAR
