BEGIN:VCALENDAR
VERSION:2.0
PRODID:-//ChamberMaster//Event Calendar 2.0//EN
METHOD:PUBLISH
X-PUBLISHED-TTL:P3D
REFRESH-INTERVAL:P3D
CALSCALE:GREGORIAN
BEGIN:VEVENT
DTSTART:20161007T143000Z
DTEND:20161007T160000Z
X-MICROSOFT-CDO-ALLDAYEVENT:FALSE
SUMMARY:Good Morning Anaheim Breakfast - October 7th
DESCRIPTION:Join us for a great morning of networking and education. Networking begins at 7:30 a.m. followed by breakfast\, 30-second commercials from all attendees.
X-ALT-DESC;FMTTYPE=text/html:<span style="line-height: 20.8px\;">Join us for a great morning of networking and education.&nbsp\;</span>Networking begins at 7:30 a.m. followed by breakfast\, 30-second commercials from all attendees.<br />\n&nbsp\;
LOCATION:Primo Sports Bar & Grill 195 W. Center St. Promenade Anaheim\, Ca 92805
UID:e.2108.2239
SEQUENCE:3
DTSTAMP:20260421T141905Z
URL:https://business.anaheimchamber.org/events/details/good-morning-anaheim-breakfast-october-7th-10-07-2016-2239
END:VEVENT

END:VCALENDAR
