BEGIN:VCALENDAR
VERSION:2.0
PRODID:-//ChamberMaster//Event Calendar 2.0//EN
METHOD:PUBLISH
X-PUBLISHED-TTL:P3D
REFRESH-INTERVAL:P3D
CALSCALE:GREGORIAN
BEGIN:VEVENT
DTSTART:20250207T153000Z
DTEND:20250207T170000Z
X-MICROSOFT-CDO-ALLDAYEVENT:FALSE
SUMMARY:Good Morning Anaheim @ Hotel Lulu
DESCRIPTION:Join us for our February Good Morning Anaheim hosted at Hotel Lulu! Good Morning Anaheim is our monthly first Friday networking breakfast. This is your early morning business development opportunity before the workday begins! Everyone has the opportunity to mingle and introduce themselves to the group. We look forward to seeing you there!
X-ALT-DESC;FMTTYPE=text/html:<span style="font-size:14px\;">Join us for our February Good Morning Anaheim hosted at Hotel Lulu! Good Morning Anaheim is our monthly first Friday networking breakfast. This is your early morning business development opportunity before the workday begins! Everyone has the opportunity to mingle and introduce themselves to the group. We look forward to seeing you there!&nbsp\;</span>
LOCATION:Hotel Lulu 1850 S Harbor Blvd Anaheim\, CA 92802
UID:e.2108.5738
SEQUENCE:3
DTSTAMP:20260419T155712Z
URL:https://business.anaheimchamber.org/events/details/good-morning-anaheim-hotel-lulu-5738
END:VEVENT

END:VCALENDAR
