BEGIN:VCALENDAR
VERSION:2.0
PRODID:-//ChamberMaster//Event Calendar 2.0//EN
METHOD:PUBLISH
X-PUBLISHED-TTL:P3D
REFRESH-INTERVAL:P3D
CALSCALE:GREGORIAN
BEGIN:VEVENT
DTSTART:20250613T143000Z
DTEND:20250613T160000Z
X-MICROSOFT-CDO-ALLDAYEVENT:FALSE
SUMMARY:Good Morning Anaheim @ Norms
DESCRIPTION:Join us for our June Good Morning Anaheim hosted at NORMS!
X-ALT-DESC;FMTTYPE=text/html:<span style="font-size:14px\;">Join us for our June Good Morning Anaheim hosted at NORMS!</span>
LOCATION:NORMS 1125 N Euclid St Anaheim\, 92801
UID:e.2108.5775
SEQUENCE:3
DTSTAMP:20260419T125453Z
URL:https://business.anaheimchamber.org/events/details/good-morning-anaheim-norms-5775
END:VEVENT

END:VCALENDAR
