BEGIN:VCALENDAR
VERSION:2.0
PRODID:-//ChamberMaster//Event Calendar 2.0//EN
METHOD:PUBLISH
X-PUBLISHED-TTL:P3D
REFRESH-INTERVAL:P3D
CALSCALE:GREGORIAN
BEGIN:VEVENT
DTSTART:20180216T210000Z
DTEND:20180217T000000Z
X-MICROSOFT-CDO-ALLDAYEVENT:FALSE
SUMMARY:Grand Opening - Four Points by Sheraton
DESCRIPTION:Grand Opening - Four Points by Sheraton Anaheim
X-ALT-DESC;FMTTYPE=text/html:Grand Opening - Four Points by Sheraton Anaheim
LOCATION:1221 S. Harbor Blvd. Anaheim\, CA 92805
UID:e.2108.2442
SEQUENCE:3
DTSTAMP:20260422T161930Z
URL:https://business.anaheimchamber.org/events/details/grand-opening-four-points-by-sheraton-2442
END:VEVENT

END:VCALENDAR
