BEGIN:VCALENDAR
VERSION:2.0
PRODID:-//ChamberMaster//Event Calendar 2.0//EN
METHOD:PUBLISH
X-PUBLISHED-TTL:P3D
REFRESH-INTERVAL:P3D
CALSCALE:GREGORIAN
BEGIN:VEVENT
DTSTART:20241212T180000Z
DTEND:20241212T220000Z
X-MICROSOFT-CDO-ALLDAYEVENT:FALSE
SUMMARY:Grand Opening of Summer House at Walnut Village
DESCRIPTION:You're invited to the Grand Opening of Walnut Village's new Memory Care Neighborhood named Summer House at Walnut Village\n\n\n\nDecember 12th 2024\, 10:00 AM - 2:00 PM\n\n1401 W Ball Rd\, Anaheim\, CA 92802\n\nKindly RSVP to WVSales@frontporch.net or call (714) 507-7004\n\n*Valet parking\, food\, and refreshments will be provided.\n\n*Join us for the ribbon cutting\, program\, and tours!
X-ALT-DESC;FMTTYPE=text/html:<span style="font-size:12.0pt\;">You&#39\;re invited to the Grand Opening of Walnut Village&#39\;s new Memory Care Neighborhood named&nbsp\;</span><strong><span style="font-size:12.0pt\;">Summer House at Walnut Village</span></strong><br />\n<br />\nDecember 12<sup>th</sup> 2024\, 10:00 AM - 2:00 PM<br />\n1401 W Ball Rd\, Anaheim\, CA 92802<br />\nKindly RSVP to <a href="mailto:WVSales@frontporch.net">WVSales@frontporch.net</a> or call (714) 507-7004<br />\n*Valet parking\, food\, and refreshments will be provided.<br />\n*Join us for the ribbon cutting\, program\, and tours!
LOCATION:1401 W Ball Rd\, Anaheim\, CA 92802 Valet parking will be provided
UID:e.2108.5733
SEQUENCE:3
DTSTAMP:20260419T155014Z
URL:https://business.anaheimchamber.org/events/details/grand-opening-of-summer-house-at-walnut-village-5733
END:VEVENT

END:VCALENDAR
