BEGIN:VCALENDAR
VERSION:2.0
PRODID:-//ChamberMaster//Event Calendar 2.0//EN
METHOD:PUBLISH
X-PUBLISHED-TTL:P3D
REFRESH-INTERVAL:P3D
CALSCALE:GREGORIAN
BEGIN:VEVENT
DTSTART:20160915T180000Z
DTEND:20160915T190000Z
X-MICROSOFT-CDO-ALLDAYEVENT:FALSE
SUMMARY:Grand Opening - US Metro Bank
DESCRIPTION:Grand Opening - US Metro Bank
X-ALT-DESC;FMTTYPE=text/html:Grand Opening - US Metro Bank
LOCATION:1055 N. Tustin Ave. Anaheim\, Ca 92807
UID:e.2108.2250
SEQUENCE:3
DTSTAMP:20260421T124240Z
URL:https://business.anaheimchamber.org/events/details/grand-opening-us-metro-bank-2250
END:VEVENT

END:VCALENDAR
