BEGIN:VCALENDAR
VERSION:2.0
PRODID:-//ChamberMaster//Event Calendar 2.0//EN
METHOD:PUBLISH
X-PUBLISHED-TTL:P3D
REFRESH-INTERVAL:P3D
CALSCALE:GREGORIAN
BEGIN:VEVENT
DTSTART:20180501T150000Z
DTEND:20180501T190000Z
X-MICROSOFT-CDO-ALLDAYEVENT:FALSE
SUMMARY:Heart Matters Health Fair
DESCRIPTION:Saturday\, May 19\, 2018\n\n8 AM 12 PM\n\nFREE Health Screenings include: \n\nEKG\, BMI\, ABI\, Diabetes Education\, Stroke and Heart Risk   Assessment ($400 value for FREE).\n\nBlood panels available for a low cost of $25!  \n\n\n\nAHMC Anaheim Regional Medical Center\n\n1211 W. La Palma Ave.\, Anaheim\, CA 92801\n\n \n\nRSVP REQUIRED First Come\, First Serve\n\nFor more information or to register for the health fair\,              please call 1.844.856.1503 or visit anaheimregionalmc.com.
X-ALT-DESC;FMTTYPE=text/html:<strong><span style="font-family:\n"><span style="font-size:24.0pt">Saturday\, May 19\, 2018</span></span></strong><br />\n<strong><span style="font-family:\n"><span style="font-size:24.0pt">8 AM&mdash\;12 PM</span></span></strong><br />\n<strong><span style="font-family:century gothic"><span style="font-size:18.0pt">FREE Health Screenings include: </span></span></strong><br />\n<span style="color:black"><span style="font-family:century gothic"><span style="font-size:18.0pt">EKG\, BMI\, ABI\, Diabetes Education\, Stroke and Heart Risk &nbsp\; Assessment ($400 value for FREE).</span></span></span><br />\n<span style="color:black"><span style="font-family:century gothic"><span style="font-size:18.0pt">Blood panels available for a low cost of $25! &nbsp\;</span></span></span><br />\n<br />\n<span style="font-family:\n"><span style="font-size:18.0pt">AHMC Anaheim Regional Medical Center</span></span><br />\n<span style="font-family:\n"><span style="font-size:18.0pt">1211 W. La Palma Ave.\, Anaheim\, CA 92801</span></span><br />\n&nbsp\;<br />\n<em><span style="font-family:\n"><span style="font-size:18.0pt">RSVP REQUIRED&mdash\;First Come\, First Serve</span></span></em><br />\n<em><span style="font-family:\n"><span style="font-size:18.0pt">For more information or to register for the health fair\,&nbsp\;&nbsp\;&nbsp\;&nbsp\;&nbsp\;&nbsp\;&nbsp\;&nbsp\;&nbsp\;&nbsp\;&nbsp\;&nbsp\;&nbsp\; please call 1.844.856.1503 or visit anaheimregionalmc.com.</span></span></em><br />\n&nbsp\;<br />\n&nbsp\;
LOCATION:AHMC Anaheim Regional Medical Center 1211 W. La Palma Ave.\, Anaheim\, CA 92801
UID:e.2108.2473
SEQUENCE:3
DTSTAMP:20260422T204607Z
URL:https://business.anaheimchamber.org/events/details/heart-matters-health-fair-2473
END:VEVENT

END:VCALENDAR
