BEGIN:VCALENDAR
VERSION:2.0
PRODID:-//ChamberMaster//Event Calendar 2.0//EN
METHOD:PUBLISH
X-PUBLISHED-TTL:P3D
REFRESH-INTERVAL:P3D
CALSCALE:GREGORIAN
BEGIN:VEVENT
DTSTART:20170503T183000Z
DTEND:20170503T203000Z
X-MICROSOFT-CDO-ALLDAYEVENT:FALSE
SUMMARY:Heroes Luncheon
DESCRIPTION:The Heroes Luncheon raises public awareness of local heroes who carry out the mission of the Red Cross every day. The American Red Cross Serving Orange County established this one-of-a- kind event to honor local individuals who have made a personal commitment to creating safer and stronger communities and providing help when disaster strikes.\n\n\n\nAs the community leader in emergency preparedness\, prevention and response\, the American Red Cross honors individuals whose extraordinary acts of courage and kindness make them heroes. Heroes are selected based on the degree to which their acts of heroism uphold the values of the American Red Cross and leave a lasting and positive impact on the residents in Orange County. \n\n\n\nPlease click here to nominate your hero using the online nomination form.
X-ALT-DESC;FMTTYPE=text/html:The Heroes Luncheon raises public awareness of local heroes who carry out the mission of the Red Cross every day. The American Red Cross Serving Orange County established this one-of-a- kind event to honor local individuals who have made a personal commitment to creating safer and stronger communities and providing help when disaster strikes.<br />\n<br />\nAs the community leader in emergency preparedness\, prevention and response\, the American Red Cross honors individuals whose extraordinary acts of courage and kindness make them heroes. Heroes are selected based on the degree to which their acts of heroism uphold the values of the American Red Cross and leave a lasting and positive impact on the residents in Orange County.&nbsp\;<br />\n<br />\n<span style="font-family: arial\,helvetica\,sans-serif\;">Please&nbsp\;</span><a href="https://americanredcross.wufoo.com/forms/p1j5lqx41f8wof0/" style="margin: 0px\; padding: 0px\; border: 0px currentColor\; border-image: none\; color: rgb(60\, 127\, 173)\; line-height: 19.5px\; font-family: Arial\, Helvetica\, sans-serif\; text-decoration: none\; vertical-align: baseline\; font-stretch: inherit\; -webkit-tap-highlight-color: rgb(180\, 213\, 255)\;" target="_blank"><strong>click here</strong></a><span style="font-family: arial\,helvetica\,sans-serif\;">&nbsp\;to nominate your hero using the online nomination form.</span><br />\n&nbsp\;
LOCATION:Hotel Irvine: 17900 Jamboree Rd.\, Irvine\, CA 92614
UID:e.2108.2296
SEQUENCE:3
DTSTAMP:20260422T012807Z
URL:https://business.anaheimchamber.org/events/details/heroes-luncheon-2296
END:VEVENT

END:VCALENDAR
