BEGIN:VCALENDAR
VERSION:2.0
PRODID:-//ChamberMaster//Event Calendar 2.0//EN
METHOD:PUBLISH
X-PUBLISHED-TTL:P3D
REFRESH-INTERVAL:P3D
CALSCALE:GREGORIAN
BEGIN:VEVENT
DTSTART:20141205T193000Z
DTEND:20141205T220000Z
X-MICROSOFT-CDO-ALLDAYEVENT:FALSE
SUMMARY:Holiday Luncheon
DESCRIPTION:Join us on December 5th as we kick off the holidays with our annual Anaheim Chamber of Commerce Holiday Luncheon! Come see Santa\, have lunch\, and be merry! Be part of the giving season and bring an unwrapped gift or gift card to be donated to Anaheim Cops 4 Kids!\n\n\n\n**Table Sponsors receive one table of 10 seats\, 20 raffle tickets\, recognition on day of event signage\, recognition at podium\, recognition in This Week in Anaheim\, and recognition on AnaheimChamber.org
X-ALT-DESC;FMTTYPE=text/html:Join us on December 5th as we kick off the holidays with our annual Anaheim Chamber of Commerce Holiday Luncheon! Come see Santa\, have lunch\, and be merry! Be part of the giving season and bring an unwrapped gift or gift card to be donated to Anaheim Cops 4 Kids!<br />\n<br />\n**Table Sponsors receive one table of 10 seats\, 20 raffle tickets\, recognition on day of event signage\, recognition at podium\, recognition in This Week in Anaheim\, and recognition on AnaheimChamber.org
LOCATION:Sheraton Park Hotel at the Anaheim Resort 1855 South Harbor Boulevard Anaheim\, CA 92802
UID:e.2108.1469
SEQUENCE:3
DTSTAMP:20260420T030212Z
URL:https://business.anaheimchamber.org/events/details/holiday-luncheon-12-05-2014-1469
END:VEVENT

END:VCALENDAR
